BEGIN:VCALENDAR
VERSION:2.0
PRODID:-//VNA Health Care - ECPv6.15.17.1//NONSGML v1.0//EN
CALSCALE:GREGORIAN
METHOD:PUBLISH
X-ORIGINAL-URL:https://vnahealth.com
X-WR-CALDESC:Events for VNA Health Care
REFRESH-INTERVAL;VALUE=DURATION:PT1H
X-Robots-Tag:noindex
X-PUBLISHED-TTL:PT1H
BEGIN:VTIMEZONE
TZID:UTC
BEGIN:STANDARD
TZOFFSETFROM:+0000
TZOFFSETTO:+0000
TZNAME:UTC
DTSTART:20210101T000000
END:STANDARD
END:VTIMEZONE
BEGIN:VEVENT
DTSTART;TZID=UTC:20220413T100000
DTEND;TZID=UTC:20220413T110000
DTSTAMP:20260425T053235
CREATED:20220224T162248Z
LAST-MODIFIED:20220428T184739Z
UID:10003971-1649844000-1649847600@vnahealth.com
SUMMARY:Step by Step: Wellness
DESCRIPTION:VNA offers free group-education classes for patients who want to manage or prevent diabetes\, heart disease or obesity. Through these classes\, you discover how simple changes can positively impact your health. \nFun and interactive\, our wellness classes connect you with other patients who share your concerns and want to learn from one another. Classes include how to cook simply\, eat healthfully\, be more active\, manage your medications\, cope with stress and more. \nDuring this time all classes are held via Zoom from 10:00AM and 11:00AM every Wednesday. You must register for each weekly class separately. Click the link below to register. After registering\, you will receive a confirmation email containing information about joining the meeting. \nPlease note that this class will be recorded and may be distributed on social media and the VNA website at a later date. \nRegister for Free Wellness Classes
URL:https://vnahealth.com/event/step-by-step-wellness/2022-04-13/
LOCATION:Microsoft Teams
ATTACH;FMTTYPE=image/jpeg:https://vnahealth.com/wp-content/uploads/2022/02/iStock-819671144-1-scaled-e1599695414215.jpeg
END:VEVENT
BEGIN:VEVENT
DTSTART;TZID=UTC:20220413T100000
DTEND;TZID=UTC:20220413T110000
DTSTAMP:20260425T053235
CREATED:20220224T162248Z
LAST-MODIFIED:20220428T184712Z
UID:10003974-1649844000-1649847600@vnahealth.com
SUMMARY:Step by Step: Wellness
DESCRIPTION:VNA offers free group-education classes for patients who want to manage or prevent diabetes\, heart disease or obesity. Through these classes\, you discover how simple changes can positively impact your health. \nFun and interactive\, our wellness classes connect you with other patients who share your concerns and want to learn from one another. Classes include how to cook simply\, eat healthfully\, be more active\, manage your medications\, cope with stress and more. \nDuring this time all classes are held via Zoom from 10:00AM and 11:00AM every Wednesday. You must register for each weekly class separately. Click the link below to register. After registering\, you will receive a confirmation email containing information about joining the meeting. \nPlease note that this class will be recorded and may be distributed on social media and the VNA website at a later date. \nRegister for Free Wellness Classes
URL:https://vnahealth.com/event/step-by-step-wellness-2022-03-30/2022-04-13/
LOCATION:Microsoft Teams
ATTACH;FMTTYPE=image/jpeg:https://vnahealth.com/wp-content/uploads/2022/02/iStock-819671144-1-scaled-e1599695414215.jpeg
END:VEVENT
BEGIN:VEVENT
DTSTART;TZID=UTC:20220406T100000
DTEND;TZID=UTC:20220406T110000
DTSTAMP:20260425T053235
CREATED:20220224T162248Z
LAST-MODIFIED:20220428T184739Z
UID:10003970-1649239200-1649242800@vnahealth.com
SUMMARY:Step by Step: Wellness
DESCRIPTION:VNA offers free group-education classes for patients who want to manage or prevent diabetes\, heart disease or obesity. Through these classes\, you discover how simple changes can positively impact your health. \nFun and interactive\, our wellness classes connect you with other patients who share your concerns and want to learn from one another. Classes include how to cook simply\, eat healthfully\, be more active\, manage your medications\, cope with stress and more. \nDuring this time all classes are held via Zoom from 10:00AM and 11:00AM every Wednesday. You must register for each weekly class separately. Click the link below to register. After registering\, you will receive a confirmation email containing information about joining the meeting. \nPlease note that this class will be recorded and may be distributed on social media and the VNA website at a later date. \nRegister for Free Wellness Classes
URL:https://vnahealth.com/event/step-by-step-wellness/2022-04-06/
LOCATION:Microsoft Teams
ATTACH;FMTTYPE=image/jpeg:https://vnahealth.com/wp-content/uploads/2022/02/iStock-819671144-1-scaled-e1599695414215.jpeg
END:VEVENT
BEGIN:VEVENT
DTSTART;TZID=UTC:20220406T100000
DTEND;TZID=UTC:20220406T110000
DTSTAMP:20260425T053235
CREATED:20220224T162248Z
LAST-MODIFIED:20220428T184712Z
UID:10003973-1649239200-1649242800@vnahealth.com
SUMMARY:Step by Step: Wellness
DESCRIPTION:VNA offers free group-education classes for patients who want to manage or prevent diabetes\, heart disease or obesity. Through these classes\, you discover how simple changes can positively impact your health. \nFun and interactive\, our wellness classes connect you with other patients who share your concerns and want to learn from one another. Classes include how to cook simply\, eat healthfully\, be more active\, manage your medications\, cope with stress and more. \nDuring this time all classes are held via Zoom from 10:00AM and 11:00AM every Wednesday. You must register for each weekly class separately. Click the link below to register. After registering\, you will receive a confirmation email containing information about joining the meeting. \nPlease note that this class will be recorded and may be distributed on social media and the VNA website at a later date. \nRegister for Free Wellness Classes
URL:https://vnahealth.com/event/step-by-step-wellness-2022-03-30/2022-04-06/
LOCATION:Microsoft Teams
ATTACH;FMTTYPE=image/jpeg:https://vnahealth.com/wp-content/uploads/2022/02/iStock-819671144-1-scaled-e1599695414215.jpeg
END:VEVENT
BEGIN:VEVENT
DTSTART;TZID=UTC:20220330T100000
DTEND;TZID=UTC:20220330T110000
DTSTAMP:20260425T053235
CREATED:20220224T162248Z
LAST-MODIFIED:20220428T184739Z
UID:10003969-1648634400-1648638000@vnahealth.com
SUMMARY:Step by Step: Wellness
DESCRIPTION:VNA offers free group-education classes for patients who want to manage or prevent diabetes\, heart disease or obesity. Through these classes\, you discover how simple changes can positively impact your health. \nFun and interactive\, our wellness classes connect you with other patients who share your concerns and want to learn from one another. Classes include how to cook simply\, eat healthfully\, be more active\, manage your medications\, cope with stress and more. \nDuring this time all classes are held via Zoom from 10:00AM and 11:00AM every Wednesday. You must register for each weekly class separately. Click the link below to register. After registering\, you will receive a confirmation email containing information about joining the meeting. \nPlease note that this class will be recorded and may be distributed on social media and the VNA website at a later date. \nRegister for Free Wellness Classes
URL:https://vnahealth.com/event/step-by-step-wellness/2022-03-30/
LOCATION:Microsoft Teams
ATTACH;FMTTYPE=image/jpeg:https://vnahealth.com/wp-content/uploads/2022/02/iStock-819671144-1-scaled-e1599695414215.jpeg
END:VEVENT
BEGIN:VEVENT
DTSTART;TZID=UTC:20220330T100000
DTEND;TZID=UTC:20220330T110000
DTSTAMP:20260425T053235
CREATED:20220224T162248Z
LAST-MODIFIED:20220428T184712Z
UID:10003972-1648634400-1648638000@vnahealth.com
SUMMARY:Step by Step: Wellness
DESCRIPTION:VNA offers free group-education classes for patients who want to manage or prevent diabetes\, heart disease or obesity. Through these classes\, you discover how simple changes can positively impact your health. \nFun and interactive\, our wellness classes connect you with other patients who share your concerns and want to learn from one another. Classes include how to cook simply\, eat healthfully\, be more active\, manage your medications\, cope with stress and more. \nDuring this time all classes are held via Zoom from 10:00AM and 11:00AM every Wednesday. You must register for each weekly class separately. Click the link below to register. After registering\, you will receive a confirmation email containing information about joining the meeting. \nPlease note that this class will be recorded and may be distributed on social media and the VNA website at a later date. \nRegister for Free Wellness Classes
URL:https://vnahealth.com/event/step-by-step-wellness-2022-03-30/2022-03-30/
LOCATION:Microsoft Teams
ATTACH;FMTTYPE=image/jpeg:https://vnahealth.com/wp-content/uploads/2022/02/iStock-819671144-1-scaled-e1599695414215.jpeg
END:VEVENT
BEGIN:VEVENT
DTSTART;TZID=UTC:20220323T100000
DTEND;TZID=UTC:20220323T110000
DTSTAMP:20260425T053235
CREATED:20220224T162248Z
LAST-MODIFIED:20220428T184739Z
UID:10003968-1648029600-1648033200@vnahealth.com
SUMMARY:Step by Step: Wellness
DESCRIPTION:VNA offers free group-education classes for patients who want to manage or prevent diabetes\, heart disease or obesity. Through these classes\, you discover how simple changes can positively impact your health. \nFun and interactive\, our wellness classes connect you with other patients who share your concerns and want to learn from one another. Classes include how to cook simply\, eat healthfully\, be more active\, manage your medications\, cope with stress and more. \nDuring this time all classes are held via Zoom from 10:00AM and 11:00AM every Wednesday. You must register for each weekly class separately. Click the link below to register. After registering\, you will receive a confirmation email containing information about joining the meeting. \nPlease note that this class will be recorded and may be distributed on social media and the VNA website at a later date. \nRegister for Free Wellness Classes
URL:https://vnahealth.com/event/step-by-step-wellness/2022-03-23/
LOCATION:Microsoft Teams
ATTACH;FMTTYPE=image/jpeg:https://vnahealth.com/wp-content/uploads/2022/02/iStock-819671144-1-scaled-e1599695414215.jpeg
END:VEVENT
BEGIN:VEVENT
DTSTART;TZID=UTC:20220316T100000
DTEND;TZID=UTC:20220316T110000
DTSTAMP:20260425T053235
CREATED:20220224T162248Z
LAST-MODIFIED:20220428T184739Z
UID:10003967-1647424800-1647428400@vnahealth.com
SUMMARY:Step by Step: Wellness
DESCRIPTION:VNA offers free group-education classes for patients who want to manage or prevent diabetes\, heart disease or obesity. Through these classes\, you discover how simple changes can positively impact your health. \nFun and interactive\, our wellness classes connect you with other patients who share your concerns and want to learn from one another. Classes include how to cook simply\, eat healthfully\, be more active\, manage your medications\, cope with stress and more. \nDuring this time all classes are held via Zoom from 10:00AM and 11:00AM every Wednesday. You must register for each weekly class separately. Click the link below to register. After registering\, you will receive a confirmation email containing information about joining the meeting. \nPlease note that this class will be recorded and may be distributed on social media and the VNA website at a later date. \nRegister for Free Wellness Classes
URL:https://vnahealth.com/event/step-by-step-wellness/2022-03-16/
LOCATION:Microsoft Teams
ATTACH;FMTTYPE=image/jpeg:https://vnahealth.com/wp-content/uploads/2022/02/iStock-819671144-1-scaled-e1599695414215.jpeg
END:VEVENT
BEGIN:VEVENT
DTSTART;TZID=UTC:20220309T100000
DTEND;TZID=UTC:20220309T110000
DTSTAMP:20260425T053235
CREATED:20220224T162248Z
LAST-MODIFIED:20220428T184739Z
UID:10003966-1646820000-1646823600@vnahealth.com
SUMMARY:Step by Step: Wellness
DESCRIPTION:VNA offers free group-education classes for patients who want to manage or prevent diabetes\, heart disease or obesity. Through these classes\, you discover how simple changes can positively impact your health. \nFun and interactive\, our wellness classes connect you with other patients who share your concerns and want to learn from one another. Classes include how to cook simply\, eat healthfully\, be more active\, manage your medications\, cope with stress and more. \nDuring this time all classes are held via Zoom from 10:00AM and 11:00AM every Wednesday. You must register for each weekly class separately. Click the link below to register. After registering\, you will receive a confirmation email containing information about joining the meeting. \nPlease note that this class will be recorded and may be distributed on social media and the VNA website at a later date. \nRegister for Free Wellness Classes
URL:https://vnahealth.com/event/step-by-step-wellness/2022-03-09/
LOCATION:Microsoft Teams
ATTACH;FMTTYPE=image/jpeg:https://vnahealth.com/wp-content/uploads/2022/02/iStock-819671144-1-scaled-e1599695414215.jpeg
END:VEVENT
BEGIN:VEVENT
DTSTART;TZID=UTC:20220302T100000
DTEND;TZID=UTC:20220302T110000
DTSTAMP:20260425T053235
CREATED:20220224T162248Z
LAST-MODIFIED:20220428T184739Z
UID:10003965-1646215200-1646218800@vnahealth.com
SUMMARY:Step by Step: Wellness
DESCRIPTION:VNA offers free group-education classes for patients who want to manage or prevent diabetes\, heart disease or obesity. Through these classes\, you discover how simple changes can positively impact your health. \nFun and interactive\, our wellness classes connect you with other patients who share your concerns and want to learn from one another. Classes include how to cook simply\, eat healthfully\, be more active\, manage your medications\, cope with stress and more. \nDuring this time all classes are held via Zoom from 10:00AM and 11:00AM every Wednesday. You must register for each weekly class separately. Click the link below to register. After registering\, you will receive a confirmation email containing information about joining the meeting. \nPlease note that this class will be recorded and may be distributed on social media and the VNA website at a later date. \nRegister for Free Wellness Classes
URL:https://vnahealth.com/event/step-by-step-wellness/2022-03-02/
LOCATION:Microsoft Teams
ATTACH;FMTTYPE=image/jpeg:https://vnahealth.com/wp-content/uploads/2022/02/iStock-819671144-1-scaled-e1599695414215.jpeg
END:VEVENT
BEGIN:VEVENT
DTSTART;TZID=UTC:20220223T100000
DTEND;TZID=UTC:20220223T110000
DTSTAMP:20260425T053235
CREATED:20220224T162248Z
LAST-MODIFIED:20220428T184739Z
UID:10003964-1645610400-1645614000@vnahealth.com
SUMMARY:Step by Step: Wellness
DESCRIPTION:VNA offers free group-education classes for patients who want to manage or prevent diabetes\, heart disease or obesity. Through these classes\, you discover how simple changes can positively impact your health. \nFun and interactive\, our wellness classes connect you with other patients who share your concerns and want to learn from one another. Classes include how to cook simply\, eat healthfully\, be more active\, manage your medications\, cope with stress and more. \nDuring this time all classes are held via Zoom from 10:00AM and 11:00AM every Wednesday. You must register for each weekly class separately. Click the link below to register. After registering\, you will receive a confirmation email containing information about joining the meeting. \nPlease note that this class will be recorded and may be distributed on social media and the VNA website at a later date. \nRegister for Free Wellness Classes
URL:https://vnahealth.com/event/step-by-step-wellness/2022-02-23/
LOCATION:Microsoft Teams
ATTACH;FMTTYPE=image/jpeg:https://vnahealth.com/wp-content/uploads/2022/02/iStock-819671144-1-scaled-e1599695414215.jpeg
END:VEVENT
BEGIN:VEVENT
DTSTART;TZID=UTC:20220216T100000
DTEND;TZID=UTC:20220216T110000
DTSTAMP:20260425T053235
CREATED:20220224T162248Z
LAST-MODIFIED:20220428T184739Z
UID:10003963-1645005600-1645009200@vnahealth.com
SUMMARY:Step by Step: Wellness
DESCRIPTION:VNA offers free group-education classes for patients who want to manage or prevent diabetes\, heart disease or obesity. Through these classes\, you discover how simple changes can positively impact your health. \nFun and interactive\, our wellness classes connect you with other patients who share your concerns and want to learn from one another. Classes include how to cook simply\, eat healthfully\, be more active\, manage your medications\, cope with stress and more. \nDuring this time all classes are held via Zoom from 10:00AM and 11:00AM every Wednesday. You must register for each weekly class separately. Click the link below to register. After registering\, you will receive a confirmation email containing information about joining the meeting. \nPlease note that this class will be recorded and may be distributed on social media and the VNA website at a later date. \nRegister for Free Wellness Classes
URL:https://vnahealth.com/event/step-by-step-wellness/2022-02-16/
LOCATION:Microsoft Teams
ATTACH;FMTTYPE=image/jpeg:https://vnahealth.com/wp-content/uploads/2022/02/iStock-819671144-1-scaled-e1599695414215.jpeg
END:VEVENT
BEGIN:VEVENT
DTSTART;TZID=UTC:20220209T100000
DTEND;TZID=UTC:20220209T110000
DTSTAMP:20260425T053235
CREATED:20220224T162248Z
LAST-MODIFIED:20220428T184739Z
UID:10003962-1644400800-1644404400@vnahealth.com
SUMMARY:Step by Step: Wellness
DESCRIPTION:VNA offers free group-education classes for patients who want to manage or prevent diabetes\, heart disease or obesity. Through these classes\, you discover how simple changes can positively impact your health. \nFun and interactive\, our wellness classes connect you with other patients who share your concerns and want to learn from one another. Classes include how to cook simply\, eat healthfully\, be more active\, manage your medications\, cope with stress and more. \nDuring this time all classes are held via Zoom from 10:00AM and 11:00AM every Wednesday. You must register for each weekly class separately. Click the link below to register. After registering\, you will receive a confirmation email containing information about joining the meeting. \nPlease note that this class will be recorded and may be distributed on social media and the VNA website at a later date. \nRegister for Free Wellness Classes
URL:https://vnahealth.com/event/step-by-step-wellness/2022-02-09/
LOCATION:Microsoft Teams
ATTACH;FMTTYPE=image/jpeg:https://vnahealth.com/wp-content/uploads/2022/02/iStock-819671144-1-scaled-e1599695414215.jpeg
END:VEVENT
BEGIN:VEVENT
DTSTART;TZID=UTC:20220202T100000
DTEND;TZID=UTC:20220202T110000
DTSTAMP:20260425T053235
CREATED:20220224T162248Z
LAST-MODIFIED:20220428T184739Z
UID:10003961-1643796000-1643799600@vnahealth.com
SUMMARY:Step by Step: Wellness
DESCRIPTION:VNA offers free group-education classes for patients who want to manage or prevent diabetes\, heart disease or obesity. Through these classes\, you discover how simple changes can positively impact your health. \nFun and interactive\, our wellness classes connect you with other patients who share your concerns and want to learn from one another. Classes include how to cook simply\, eat healthfully\, be more active\, manage your medications\, cope with stress and more. \nDuring this time all classes are held via Zoom from 10:00AM and 11:00AM every Wednesday. You must register for each weekly class separately. Click the link below to register. After registering\, you will receive a confirmation email containing information about joining the meeting. \nPlease note that this class will be recorded and may be distributed on social media and the VNA website at a later date. \nRegister for Free Wellness Classes
URL:https://vnahealth.com/event/step-by-step-wellness/2022-02-02/
LOCATION:Microsoft Teams
ATTACH;FMTTYPE=image/jpeg:https://vnahealth.com/wp-content/uploads/2022/02/iStock-819671144-1-scaled-e1599695414215.jpeg
END:VEVENT
BEGIN:VEVENT
DTSTART;TZID=UTC:20220126T100000
DTEND;TZID=UTC:20220126T110000
DTSTAMP:20260425T053235
CREATED:20220224T162248Z
LAST-MODIFIED:20220428T184739Z
UID:10003960-1643191200-1643194800@vnahealth.com
SUMMARY:Step by Step: Wellness
DESCRIPTION:VNA offers free group-education classes for patients who want to manage or prevent diabetes\, heart disease or obesity. Through these classes\, you discover how simple changes can positively impact your health. \nFun and interactive\, our wellness classes connect you with other patients who share your concerns and want to learn from one another. Classes include how to cook simply\, eat healthfully\, be more active\, manage your medications\, cope with stress and more. \nDuring this time all classes are held via Zoom from 10:00AM and 11:00AM every Wednesday. You must register for each weekly class separately. Click the link below to register. After registering\, you will receive a confirmation email containing information about joining the meeting. \nPlease note that this class will be recorded and may be distributed on social media and the VNA website at a later date. \nRegister for Free Wellness Classes
URL:https://vnahealth.com/event/step-by-step-wellness/2022-01-26/
LOCATION:Microsoft Teams
ATTACH;FMTTYPE=image/jpeg:https://vnahealth.com/wp-content/uploads/2022/02/iStock-819671144-1-scaled-e1599695414215.jpeg
END:VEVENT
END:VCALENDAR