BEGIN:VCALENDAR
VERSION:2.0
PRODID:-//VNA Health Care - ECPv6.15.17.1//NONSGML v1.0//EN
CALSCALE:GREGORIAN
METHOD:PUBLISH
X-WR-CALNAME:VNA Health Care
X-ORIGINAL-URL:https://vnahealth.com
X-WR-CALDESC:Events for VNA Health Care
REFRESH-INTERVAL;VALUE=DURATION:PT1H
X-Robots-Tag:noindex
X-PUBLISHED-TTL:PT1H
BEGIN:VTIMEZONE
TZID:UTC
BEGIN:STANDARD
TZOFFSETFROM:+0000
TZOFFSETTO:+0000
TZNAME:UTC
DTSTART:20210101T000000
END:STANDARD
END:VTIMEZONE
BEGIN:VTIMEZONE
TZID:America/Chicago
BEGIN:DAYLIGHT
TZOFFSETFROM:-0600
TZOFFSETTO:-0500
TZNAME:CDT
DTSTART:20210314T080000
END:DAYLIGHT
BEGIN:STANDARD
TZOFFSETFROM:-0500
TZOFFSETTO:-0600
TZNAME:CST
DTSTART:20211107T070000
END:STANDARD
BEGIN:DAYLIGHT
TZOFFSETFROM:-0600
TZOFFSETTO:-0500
TZNAME:CDT
DTSTART:20220313T080000
END:DAYLIGHT
BEGIN:STANDARD
TZOFFSETFROM:-0500
TZOFFSETTO:-0600
TZNAME:CST
DTSTART:20221106T070000
END:STANDARD
BEGIN:DAYLIGHT
TZOFFSETFROM:-0600
TZOFFSETTO:-0500
TZNAME:CDT
DTSTART:20230312T080000
END:DAYLIGHT
BEGIN:STANDARD
TZOFFSETFROM:-0500
TZOFFSETTO:-0600
TZNAME:CST
DTSTART:20231105T070000
END:STANDARD
END:VTIMEZONE
BEGIN:VEVENT
DTSTART;TZID=UTC:20230525T140000
DTEND;TZID=UTC:20230525T153000
DTSTAMP:20260419T182857
CREATED:20221114T054621Z
LAST-MODIFIED:20221114T054621Z
UID:10004657-1685023200-1685028600@vnahealth.com
SUMMARY:Take a Break with VNA
DESCRIPTION:Are you young at heart?\nInterested in making some new friends?\nWell you’ve come to the right place! \nHighlights Include: \n• Healthy Tips from the Experts \n• A different activity each time— Easy Cooking Tutorials\, Games\, and Exercise \n• Light refreshments will be served \n• Carers Welcome! \nRSVPs preferred\, click on register button. Walk-ins Welcome.\nCall (630) 482-8178 or email takeabreak@vnahealth.com for more information.
URL:https://vnahealth.com/event/take-a-break-with-vna-2-2/2023-05-25/
LOCATION:Aurora Healthy Lifestyle Center & Kitchen\, 2nd Floor\, 400 N. Highland Ave.\, Aurora\, IL\, 60506\, United States
CATEGORIES:Take a Break with VNA
ATTACH;FMTTYPE=image/jpeg:https://vnahealth.com/wp-content/uploads/2022/05/iStock-1167972017cmyk-scaled-e1680809028628.jpg
END:VEVENT
BEGIN:VEVENT
DTSTART;TZID=UTC:20230511T093000
DTEND;TZID=UTC:20230511T110000
DTSTAMP:20260419T182857
CREATED:20230406T192235Z
LAST-MODIFIED:20230406T193100Z
UID:10005242-1683797400-1683802800@vnahealth.com
SUMMARY:Take a Break with VNA
DESCRIPTION:Are you young at heart?\nInterested in making some new friends?\nWell you’ve come to the right place! \nHighlights Include: \n• Healthy Tips from the Experts \n• A different activity each time— Easy Cooking Tutorials\, Games\, and Exercise \n• Light refreshments will be served \n• Carers Welcome! \nRSVPs preferred\, click on register button. Walk-ins Welcome.\nCall (630) 482-8178 or email takeabreak@vnahealth.com for more information.
URL:https://vnahealth.com/event/take-a-break-with-vna-2/2023-05-11/
LOCATION:Aurora Healthy Lifestyle Center & Kitchen\, 2nd Floor\, 400 N. Highland Ave.\, Aurora\, IL\, 60506\, United States
CATEGORIES:Take a Break with VNA
ATTACH;FMTTYPE=image/jpeg:https://vnahealth.com/wp-content/uploads/2022/05/iStock-1167972017cmyk-scaled-e1680809028628.jpg
END:VEVENT
BEGIN:VEVENT
DTSTART;TZID=UTC:20230427T140000
DTEND;TZID=UTC:20230427T153000
DTSTAMP:20260419T182857
CREATED:20221114T054621Z
LAST-MODIFIED:20221114T054621Z
UID:10004656-1682604000-1682609400@vnahealth.com
SUMMARY:Take a Break with VNA
DESCRIPTION:Are you young at heart?\nInterested in making some new friends?\nWell you’ve come to the right place! \nHighlights Include: \n• Healthy Tips from the Experts \n• A different activity each time— Easy Cooking Tutorials\, Games\, and Exercise \n• Light refreshments will be served \n• Carers Welcome! \nRSVPs preferred\, click on register button. Walk-ins Welcome.\nCall (630) 482-8178 or email takeabreak@vnahealth.com for more information.
URL:https://vnahealth.com/event/take-a-break-with-vna-2-2/2023-04-27/
LOCATION:Aurora Healthy Lifestyle Center & Kitchen\, 2nd Floor\, 400 N. Highland Ave.\, Aurora\, IL\, 60506\, United States
CATEGORIES:Take a Break with VNA
ATTACH;FMTTYPE=image/jpeg:https://vnahealth.com/wp-content/uploads/2022/05/iStock-1167972017cmyk-scaled-e1680809028628.jpg
END:VEVENT
BEGIN:VEVENT
DTSTART;TZID=UTC:20230413T093000
DTEND;TZID=UTC:20230413T110000
DTSTAMP:20260419T182857
CREATED:20230406T192235Z
LAST-MODIFIED:20230406T193100Z
UID:10005230-1681378200-1681383600@vnahealth.com
SUMMARY:Take a Break with VNA
DESCRIPTION:Are you young at heart?\nInterested in making some new friends?\nWell you’ve come to the right place! \nHighlights Include: \n• Healthy Tips from the Experts \n• A different activity each time— Easy Cooking Tutorials\, Games\, and Exercise \n• Light refreshments will be served \n• Carers Welcome! \nRSVPs preferred\, click on register button. Walk-ins Welcome.\nCall (630) 482-8178 or email takeabreak@vnahealth.com for more information.
URL:https://vnahealth.com/event/take-a-break-with-vna-2/2023-04-13/
LOCATION:Aurora Healthy Lifestyle Center & Kitchen\, 2nd Floor\, 400 N. Highland Ave.\, Aurora\, IL\, 60506\, United States
CATEGORIES:Take a Break with VNA
ATTACH;FMTTYPE=image/jpeg:https://vnahealth.com/wp-content/uploads/2022/05/iStock-1167972017cmyk-scaled-e1680809028628.jpg
END:VEVENT
BEGIN:VEVENT
DTSTART;TZID=UTC:20230323T140000
DTEND;TZID=UTC:20230323T153000
DTSTAMP:20260419T182857
CREATED:20221114T054621Z
LAST-MODIFIED:20221114T054621Z
UID:10004655-1679580000-1679585400@vnahealth.com
SUMMARY:Take a Break with VNA
DESCRIPTION:Are you young at heart?\nInterested in making some new friends?\nWell you’ve come to the right place! \nHighlights Include: \n• Healthy Tips from the Experts \n• A different activity each time— Easy Cooking Tutorials\, Games\, and Exercise \n• Light refreshments will be served \n• Carers Welcome! \nRSVPs preferred\, click on register button. Walk-ins Welcome.\nCall (630) 482-8178 or email takeabreak@vnahealth.com for more information.
URL:https://vnahealth.com/event/take-a-break-with-vna-2-2/2023-03-23/
LOCATION:Aurora Healthy Lifestyle Center & Kitchen\, 2nd Floor\, 400 N. Highland Ave.\, Aurora\, IL\, 60506\, United States
CATEGORIES:Take a Break with VNA
ATTACH;FMTTYPE=image/jpeg:https://vnahealth.com/wp-content/uploads/2022/05/iStock-1167972017cmyk-scaled-e1680809028628.jpg
END:VEVENT
BEGIN:VEVENT
DTSTART;TZID=UTC:20230223T140000
DTEND;TZID=UTC:20230223T153000
DTSTAMP:20260419T182857
CREATED:20221114T054621Z
LAST-MODIFIED:20221114T054621Z
UID:10004654-1677160800-1677166200@vnahealth.com
SUMMARY:Take a Break with VNA
DESCRIPTION:Are you young at heart?\nInterested in making some new friends?\nWell you’ve come to the right place! \nHighlights Include: \n• Healthy Tips from the Experts \n• A different activity each time— Easy Cooking Tutorials\, Games\, and Exercise \n• Light refreshments will be served \n• Carers Welcome! \nRSVPs preferred\, click on register button. Walk-ins Welcome.\nCall (630) 482-8178 or email takeabreak@vnahealth.com for more information.
URL:https://vnahealth.com/event/take-a-break-with-vna-2-2/2023-02-23/
LOCATION:Aurora Healthy Lifestyle Center & Kitchen\, 2nd Floor\, 400 N. Highland Ave.\, Aurora\, IL\, 60506\, United States
CATEGORIES:Take a Break with VNA
ATTACH;FMTTYPE=image/jpeg:https://vnahealth.com/wp-content/uploads/2022/05/iStock-1167972017cmyk-scaled-e1680809028628.jpg
END:VEVENT
BEGIN:VEVENT
DTSTART;TZID=UTC:20230126T140000
DTEND;TZID=UTC:20230126T153000
DTSTAMP:20260419T182857
CREATED:20221114T054621Z
LAST-MODIFIED:20221114T054621Z
UID:10004653-1674741600-1674747000@vnahealth.com
SUMMARY:Take a Break with VNA
DESCRIPTION:Are you young at heart?\nInterested in making some new friends?\nWell you’ve come to the right place! \nHighlights Include: \n• Healthy Tips from the Experts \n• A different activity each time— Easy Cooking Tutorials\, Games\, and Exercise \n• Light refreshments will be served \n• Carers Welcome! \nRSVPs preferred\, click on register button. Walk-ins Welcome.\nCall (630) 482-8178 or email takeabreak@vnahealth.com for more information.
URL:https://vnahealth.com/event/take-a-break-with-vna-2-2/2023-01-26/
LOCATION:Aurora Healthy Lifestyle Center & Kitchen\, 2nd Floor\, 400 N. Highland Ave.\, Aurora\, IL\, 60506\, United States
CATEGORIES:Take a Break with VNA
ATTACH;FMTTYPE=image/jpeg:https://vnahealth.com/wp-content/uploads/2022/05/iStock-1167972017cmyk-scaled-e1680809028628.jpg
END:VEVENT
BEGIN:VEVENT
DTSTART;TZID=UTC:20221222T140000
DTEND;TZID=UTC:20221222T153000
DTSTAMP:20260419T182857
CREATED:20221114T054621Z
LAST-MODIFIED:20221114T054621Z
UID:10004652-1671717600-1671723000@vnahealth.com
SUMMARY:Take a Break with VNA
DESCRIPTION:Are you young at heart?\nInterested in making some new friends?\nWell you’ve come to the right place! \nHighlights Include: \n• Healthy Tips from the Experts \n• A different activity each time— Easy Cooking Tutorials\, Games\, and Exercise \n• Light refreshments will be served \n• Carers Welcome! \nRSVPs preferred\, click on register button. Walk-ins Welcome.\nCall (630) 482-8178 or email takeabreak@vnahealth.com for more information.
URL:https://vnahealth.com/event/take-a-break-with-vna-2-2/2022-12-22/
LOCATION:Aurora Healthy Lifestyle Center & Kitchen\, 2nd Floor\, 400 N. Highland Ave.\, Aurora\, IL\, 60506\, United States
CATEGORIES:Take a Break with VNA
ATTACH;FMTTYPE=image/jpeg:https://vnahealth.com/wp-content/uploads/2022/05/iStock-1167972017cmyk-scaled-e1680809028628.jpg
END:VEVENT
BEGIN:VEVENT
DTSTART;TZID=UTC:20221124T140000
DTEND;TZID=UTC:20221124T153000
DTSTAMP:20260419T182857
CREATED:20221114T054621Z
LAST-MODIFIED:20221114T054621Z
UID:10004651-1669298400-1669303800@vnahealth.com
SUMMARY:Take a Break with VNA
DESCRIPTION:Are you young at heart?\nInterested in making some new friends?\nWell you’ve come to the right place! \nHighlights Include: \n• Healthy Tips from the Experts \n• A different activity each time— Easy Cooking Tutorials\, Games\, and Exercise \n• Light refreshments will be served \n• Carers Welcome! \nRSVPs preferred\, click on register button. Walk-ins Welcome.\nCall (630) 482-8178 or email takeabreak@vnahealth.com for more information.
URL:https://vnahealth.com/event/take-a-break-with-vna-2-2/2022-11-24/
LOCATION:Aurora Healthy Lifestyle Center & Kitchen\, 2nd Floor\, 400 N. Highland Ave.\, Aurora\, IL\, 60506\, United States
CATEGORIES:Take a Break with VNA
ATTACH;FMTTYPE=image/jpeg:https://vnahealth.com/wp-content/uploads/2022/05/iStock-1167972017cmyk-scaled-e1680809028628.jpg
END:VEVENT
BEGIN:VEVENT
DTSTART;TZID=UTC:20221109T100000
DTEND;TZID=UTC:20221109T113000
DTSTAMP:20260419T182857
CREATED:20220224T170412Z
LAST-MODIFIED:20220224T170412Z
UID:10004248-1667988000-1667993400@vnahealth.com
SUMMARY:Step by Step - Heart Health
DESCRIPTION:Learn simple lifestyle changes that can help show your heart some love. Do it for you\, do it for your family!
URL:https://vnahealth.com/event/step-by-step-heart-health/2022-11-09/
LOCATION:Aurora Healthy Lifestyle Center & Kitchen\, 2nd Floor\, 400 N. Highland Ave.\, Aurora\, IL\, 60506\, United States
CATEGORIES:Heart Health
ATTACH;FMTTYPE=image/png:https://vnahealth.com/wp-content/uploads/2022/02/heart-health-146x146-1.png
END:VEVENT
BEGIN:VEVENT
DTSTART;TZID=UTC:20221102T100000
DTEND;TZID=UTC:20221102T113000
DTSTAMP:20260419T182857
CREATED:20220224T170412Z
LAST-MODIFIED:20220224T170412Z
UID:10004247-1667383200-1667388600@vnahealth.com
SUMMARY:Step by Step - Heart Health
DESCRIPTION:Learn simple lifestyle changes that can help show your heart some love. Do it for you\, do it for your family!
URL:https://vnahealth.com/event/step-by-step-heart-health/2022-11-02/
LOCATION:Aurora Healthy Lifestyle Center & Kitchen\, 2nd Floor\, 400 N. Highland Ave.\, Aurora\, IL\, 60506\, United States
CATEGORIES:Heart Health
ATTACH;FMTTYPE=image/png:https://vnahealth.com/wp-content/uploads/2022/02/heart-health-146x146-1.png
END:VEVENT
BEGIN:VEVENT
DTSTART;TZID=UTC:20221027T140000
DTEND;TZID=UTC:20221027T153000
DTSTAMP:20260419T182857
CREATED:20221114T054621Z
LAST-MODIFIED:20221114T054621Z
UID:10004650-1666879200-1666884600@vnahealth.com
SUMMARY:Take a Break with VNA
DESCRIPTION:Are you young at heart?\nInterested in making some new friends?\nWell you’ve come to the right place! \nHighlights Include: \n• Healthy Tips from the Experts \n• A different activity each time— Easy Cooking Tutorials\, Games\, and Exercise \n• Light refreshments will be served \n• Carers Welcome! \nRSVPs preferred\, click on register button. Walk-ins Welcome.\nCall (630) 482-8178 or email takeabreak@vnahealth.com for more information.
URL:https://vnahealth.com/event/take-a-break-with-vna-2-2/2022-10-27/
LOCATION:Aurora Healthy Lifestyle Center & Kitchen\, 2nd Floor\, 400 N. Highland Ave.\, Aurora\, IL\, 60506\, United States
CATEGORIES:Take a Break with VNA
ATTACH;FMTTYPE=image/jpeg:https://vnahealth.com/wp-content/uploads/2022/05/iStock-1167972017cmyk-scaled-e1680809028628.jpg
END:VEVENT
BEGIN:VEVENT
DTSTART;TZID=UTC:20221026T100000
DTEND;TZID=UTC:20221026T113000
DTSTAMP:20260419T182857
CREATED:20220224T170412Z
LAST-MODIFIED:20220224T170412Z
UID:10004246-1666778400-1666783800@vnahealth.com
SUMMARY:Step by Step - Heart Health
DESCRIPTION:Learn simple lifestyle changes that can help show your heart some love. Do it for you\, do it for your family!
URL:https://vnahealth.com/event/step-by-step-heart-health/2022-10-26/
LOCATION:Aurora Healthy Lifestyle Center & Kitchen\, 2nd Floor\, 400 N. Highland Ave.\, Aurora\, IL\, 60506\, United States
CATEGORIES:Heart Health
ATTACH;FMTTYPE=image/png:https://vnahealth.com/wp-content/uploads/2022/02/heart-health-146x146-1.png
END:VEVENT
BEGIN:VEVENT
DTSTART;TZID=UTC:20221019T100000
DTEND;TZID=UTC:20221019T113000
DTSTAMP:20260419T182857
CREATED:20220224T170412Z
LAST-MODIFIED:20220224T170412Z
UID:10004245-1666173600-1666179000@vnahealth.com
SUMMARY:Step by Step - Heart Health
DESCRIPTION:Learn simple lifestyle changes that can help show your heart some love. Do it for you\, do it for your family!
URL:https://vnahealth.com/event/step-by-step-heart-health/2022-10-19/
LOCATION:Aurora Healthy Lifestyle Center & Kitchen\, 2nd Floor\, 400 N. Highland Ave.\, Aurora\, IL\, 60506\, United States
CATEGORIES:Heart Health
ATTACH;FMTTYPE=image/png:https://vnahealth.com/wp-content/uploads/2022/02/heart-health-146x146-1.png
END:VEVENT
BEGIN:VEVENT
DTSTART;TZID=America/Chicago:20221018T160000
DTEND;TZID=America/Chicago:20221018T173000
DTSTAMP:20260419T182857
CREATED:20221003T155244Z
LAST-MODIFIED:20221014T131349Z
UID:10004595-1666108800-1666114200@vnahealth.com
SUMMARY:Financial Wellness Classes
DESCRIPTION:Workshop 1: Financial Building Blocks\nTuesday October 4th\nLearn strategies to better manage your money to achieve your financial goals. Identify ways to decrease\nspending and increase savings while getting the most out of your savings and checking accounts\nWorkshop 2: Understanding Credit\nTuesday October 11th\nUnderstand what goes into a credit report and score and why it matters. Learn how to\nestablish good credit and ways to rebuild or improve your credit score\nWorkshop 3: Steps to Homeownership\nTuesday October 18th\nLearn the steps of buying your own home\, how to get qualified and learn about the different financing and down payment assistance options
URL:https://vnahealth.com/event/financial-wellness-classes/2022-10-18/
LOCATION:Aurora Healthy Lifestyle Center & Kitchen\, 2nd Floor\, 400 N. Highland Ave.\, Aurora\, IL\, 60506\, United States
CATEGORIES:Financial Wellness
ATTACH;FMTTYPE=image/jpeg:https://vnahealth.com/wp-content/uploads/2022/10/iStock-465690601-scaled.jpg
END:VEVENT
BEGIN:VEVENT
DTSTART;TZID=UTC:20221012T100000
DTEND;TZID=UTC:20221012T113000
DTSTAMP:20260419T182857
CREATED:20220224T170412Z
LAST-MODIFIED:20220224T170412Z
UID:10004244-1665568800-1665574200@vnahealth.com
SUMMARY:Step by Step - Heart Health
DESCRIPTION:Learn simple lifestyle changes that can help show your heart some love. Do it for you\, do it for your family!
URL:https://vnahealth.com/event/step-by-step-heart-health/2022-10-12/
LOCATION:Aurora Healthy Lifestyle Center & Kitchen\, 2nd Floor\, 400 N. Highland Ave.\, Aurora\, IL\, 60506\, United States
CATEGORIES:Heart Health
ATTACH;FMTTYPE=image/png:https://vnahealth.com/wp-content/uploads/2022/02/heart-health-146x146-1.png
END:VEVENT
BEGIN:VEVENT
DTSTART;TZID=America/Chicago:20221011T160000
DTEND;TZID=America/Chicago:20221011T173000
DTSTAMP:20260419T182857
CREATED:20221003T155244Z
LAST-MODIFIED:20221014T131349Z
UID:10004594-1665504000-1665509400@vnahealth.com
SUMMARY:Financial Wellness Classes
DESCRIPTION:Workshop 1: Financial Building Blocks\nTuesday October 4th\nLearn strategies to better manage your money to achieve your financial goals. Identify ways to decrease\nspending and increase savings while getting the most out of your savings and checking accounts\nWorkshop 2: Understanding Credit\nTuesday October 11th\nUnderstand what goes into a credit report and score and why it matters. Learn how to\nestablish good credit and ways to rebuild or improve your credit score\nWorkshop 3: Steps to Homeownership\nTuesday October 18th\nLearn the steps of buying your own home\, how to get qualified and learn about the different financing and down payment assistance options
URL:https://vnahealth.com/event/financial-wellness-classes/2022-10-11/
LOCATION:Aurora Healthy Lifestyle Center & Kitchen\, 2nd Floor\, 400 N. Highland Ave.\, Aurora\, IL\, 60506\, United States
CATEGORIES:Financial Wellness
ATTACH;FMTTYPE=image/jpeg:https://vnahealth.com/wp-content/uploads/2022/10/iStock-465690601-scaled.jpg
END:VEVENT
BEGIN:VEVENT
DTSTART;TZID=UTC:20221005T100000
DTEND;TZID=UTC:20221005T113000
DTSTAMP:20260419T182857
CREATED:20220224T170412Z
LAST-MODIFIED:20220224T170412Z
UID:10004243-1664964000-1664969400@vnahealth.com
SUMMARY:Step by Step - Heart Health
DESCRIPTION:Learn simple lifestyle changes that can help show your heart some love. Do it for you\, do it for your family!
URL:https://vnahealth.com/event/step-by-step-heart-health/2022-10-05/
LOCATION:Aurora Healthy Lifestyle Center & Kitchen\, 2nd Floor\, 400 N. Highland Ave.\, Aurora\, IL\, 60506\, United States
CATEGORIES:Heart Health
ATTACH;FMTTYPE=image/png:https://vnahealth.com/wp-content/uploads/2022/02/heart-health-146x146-1.png
END:VEVENT
BEGIN:VEVENT
DTSTART;TZID=America/Chicago:20221004T160000
DTEND;TZID=America/Chicago:20221004T173000
DTSTAMP:20260419T182857
CREATED:20221003T155244Z
LAST-MODIFIED:20221014T131349Z
UID:10004593-1664899200-1664904600@vnahealth.com
SUMMARY:Financial Wellness Classes
DESCRIPTION:Workshop 1: Financial Building Blocks\nTuesday October 4th\nLearn strategies to better manage your money to achieve your financial goals. Identify ways to decrease\nspending and increase savings while getting the most out of your savings and checking accounts\nWorkshop 2: Understanding Credit\nTuesday October 11th\nUnderstand what goes into a credit report and score and why it matters. Learn how to\nestablish good credit and ways to rebuild or improve your credit score\nWorkshop 3: Steps to Homeownership\nTuesday October 18th\nLearn the steps of buying your own home\, how to get qualified and learn about the different financing and down payment assistance options
URL:https://vnahealth.com/event/financial-wellness-classes/2022-10-04/
LOCATION:Aurora Healthy Lifestyle Center & Kitchen\, 2nd Floor\, 400 N. Highland Ave.\, Aurora\, IL\, 60506\, United States
CATEGORIES:Financial Wellness
ATTACH;FMTTYPE=image/jpeg:https://vnahealth.com/wp-content/uploads/2022/10/iStock-465690601-scaled.jpg
END:VEVENT
BEGIN:VEVENT
DTSTART;TZID=UTC:20220928T100000
DTEND;TZID=UTC:20220928T113000
DTSTAMP:20260419T182857
CREATED:20220224T170412Z
LAST-MODIFIED:20220224T170412Z
UID:10004242-1664359200-1664364600@vnahealth.com
SUMMARY:Step by Step - Heart Health
DESCRIPTION:Learn simple lifestyle changes that can help show your heart some love. Do it for you\, do it for your family!
URL:https://vnahealth.com/event/step-by-step-heart-health/2022-09-28/
LOCATION:Aurora Healthy Lifestyle Center & Kitchen\, 2nd Floor\, 400 N. Highland Ave.\, Aurora\, IL\, 60506\, United States
CATEGORIES:Heart Health
ATTACH;FMTTYPE=image/png:https://vnahealth.com/wp-content/uploads/2022/02/heart-health-146x146-1.png
END:VEVENT
BEGIN:VEVENT
DTSTART;TZID=UTC:20220922T140000
DTEND;TZID=UTC:20220922T153000
DTSTAMP:20260419T182857
CREATED:20221114T054621Z
LAST-MODIFIED:20221114T054621Z
UID:10004649-1663855200-1663860600@vnahealth.com
SUMMARY:Take a Break with VNA
DESCRIPTION:Are you young at heart?\nInterested in making some new friends?\nWell you’ve come to the right place! \nHighlights Include: \n• Healthy Tips from the Experts \n• A different activity each time— Easy Cooking Tutorials\, Games\, and Exercise \n• Light refreshments will be served \n• Carers Welcome! \nRSVPs preferred\, click on register button. Walk-ins Welcome.\nCall (630) 482-8178 or email takeabreak@vnahealth.com for more information.
URL:https://vnahealth.com/event/take-a-break-with-vna-2-2/2022-09-22/
LOCATION:Aurora Healthy Lifestyle Center & Kitchen\, 2nd Floor\, 400 N. Highland Ave.\, Aurora\, IL\, 60506\, United States
CATEGORIES:Take a Break with VNA
ATTACH;FMTTYPE=image/jpeg:https://vnahealth.com/wp-content/uploads/2022/05/iStock-1167972017cmyk-scaled-e1680809028628.jpg
END:VEVENT
BEGIN:VEVENT
DTSTART;TZID=UTC:20220921T100000
DTEND;TZID=UTC:20220921T113000
DTSTAMP:20260419T182857
CREATED:20220224T170412Z
LAST-MODIFIED:20220224T170412Z
UID:10004241-1663754400-1663759800@vnahealth.com
SUMMARY:Step by Step - Heart Health
DESCRIPTION:Learn simple lifestyle changes that can help show your heart some love. Do it for you\, do it for your family!
URL:https://vnahealth.com/event/step-by-step-heart-health/2022-09-21/
LOCATION:Aurora Healthy Lifestyle Center & Kitchen\, 2nd Floor\, 400 N. Highland Ave.\, Aurora\, IL\, 60506\, United States
CATEGORIES:Heart Health
ATTACH;FMTTYPE=image/png:https://vnahealth.com/wp-content/uploads/2022/02/heart-health-146x146-1.png
END:VEVENT
BEGIN:VEVENT
DTSTART;TZID=UTC:20220914T100000
DTEND;TZID=UTC:20220914T113000
DTSTAMP:20260419T182857
CREATED:20220224T170412Z
LAST-MODIFIED:20220224T170412Z
UID:10004240-1663149600-1663155000@vnahealth.com
SUMMARY:Step by Step - Heart Health
DESCRIPTION:Learn simple lifestyle changes that can help show your heart some love. Do it for you\, do it for your family!
URL:https://vnahealth.com/event/step-by-step-heart-health/2022-09-14/
LOCATION:Aurora Healthy Lifestyle Center & Kitchen\, 2nd Floor\, 400 N. Highland Ave.\, Aurora\, IL\, 60506\, United States
CATEGORIES:Heart Health
ATTACH;FMTTYPE=image/png:https://vnahealth.com/wp-content/uploads/2022/02/heart-health-146x146-1.png
END:VEVENT
BEGIN:VEVENT
DTSTART;TZID=UTC:20220907T100000
DTEND;TZID=UTC:20220907T113000
DTSTAMP:20260419T182857
CREATED:20220224T170412Z
LAST-MODIFIED:20220224T170412Z
UID:10004239-1662544800-1662550200@vnahealth.com
SUMMARY:Step by Step - Heart Health
DESCRIPTION:Learn simple lifestyle changes that can help show your heart some love. Do it for you\, do it for your family!
URL:https://vnahealth.com/event/step-by-step-heart-health/2022-09-07/
LOCATION:Aurora Healthy Lifestyle Center & Kitchen\, 2nd Floor\, 400 N. Highland Ave.\, Aurora\, IL\, 60506\, United States
CATEGORIES:Heart Health
ATTACH;FMTTYPE=image/png:https://vnahealth.com/wp-content/uploads/2022/02/heart-health-146x146-1.png
END:VEVENT
BEGIN:VEVENT
DTSTART;TZID=UTC:20220831T100000
DTEND;TZID=UTC:20220831T113000
DTSTAMP:20260419T182857
CREATED:20220224T170412Z
LAST-MODIFIED:20220224T170412Z
UID:10004238-1661940000-1661945400@vnahealth.com
SUMMARY:Step by Step - Heart Health
DESCRIPTION:Learn simple lifestyle changes that can help show your heart some love. Do it for you\, do it for your family!
URL:https://vnahealth.com/event/step-by-step-heart-health/2022-08-31/
LOCATION:Aurora Healthy Lifestyle Center & Kitchen\, 2nd Floor\, 400 N. Highland Ave.\, Aurora\, IL\, 60506\, United States
CATEGORIES:Heart Health
ATTACH;FMTTYPE=image/png:https://vnahealth.com/wp-content/uploads/2022/02/heart-health-146x146-1.png
END:VEVENT
BEGIN:VEVENT
DTSTART;TZID=UTC:20220825T140000
DTEND;TZID=UTC:20220825T153000
DTSTAMP:20260419T182857
CREATED:20221114T054621Z
LAST-MODIFIED:20221114T054621Z
UID:10004648-1661436000-1661441400@vnahealth.com
SUMMARY:Take a Break with VNA
DESCRIPTION:Are you young at heart?\nInterested in making some new friends?\nWell you’ve come to the right place! \nHighlights Include: \n• Healthy Tips from the Experts \n• A different activity each time— Easy Cooking Tutorials\, Games\, and Exercise \n• Light refreshments will be served \n• Carers Welcome! \nRSVPs preferred\, click on register button. Walk-ins Welcome.\nCall (630) 482-8178 or email takeabreak@vnahealth.com for more information.
URL:https://vnahealth.com/event/take-a-break-with-vna-2-2/2022-08-25/
LOCATION:Aurora Healthy Lifestyle Center & Kitchen\, 2nd Floor\, 400 N. Highland Ave.\, Aurora\, IL\, 60506\, United States
CATEGORIES:Take a Break with VNA
ATTACH;FMTTYPE=image/jpeg:https://vnahealth.com/wp-content/uploads/2022/05/iStock-1167972017cmyk-scaled-e1680809028628.jpg
END:VEVENT
BEGIN:VEVENT
DTSTART;TZID=UTC:20220824T100000
DTEND;TZID=UTC:20220824T113000
DTSTAMP:20260419T182857
CREATED:20220224T170412Z
LAST-MODIFIED:20220224T170412Z
UID:10004237-1661335200-1661340600@vnahealth.com
SUMMARY:Step by Step - Heart Health
DESCRIPTION:Learn simple lifestyle changes that can help show your heart some love. Do it for you\, do it for your family!
URL:https://vnahealth.com/event/step-by-step-heart-health/2022-08-24/
LOCATION:Aurora Healthy Lifestyle Center & Kitchen\, 2nd Floor\, 400 N. Highland Ave.\, Aurora\, IL\, 60506\, United States
CATEGORIES:Heart Health
ATTACH;FMTTYPE=image/png:https://vnahealth.com/wp-content/uploads/2022/02/heart-health-146x146-1.png
END:VEVENT
BEGIN:VEVENT
DTSTART;TZID=UTC:20220817T100000
DTEND;TZID=UTC:20220817T113000
DTSTAMP:20260419T182857
CREATED:20220224T170412Z
LAST-MODIFIED:20220224T170412Z
UID:10004236-1660730400-1660735800@vnahealth.com
SUMMARY:Step by Step - Heart Health
DESCRIPTION:Learn simple lifestyle changes that can help show your heart some love. Do it for you\, do it for your family!
URL:https://vnahealth.com/event/step-by-step-heart-health/2022-08-17/
LOCATION:Aurora Healthy Lifestyle Center & Kitchen\, 2nd Floor\, 400 N. Highland Ave.\, Aurora\, IL\, 60506\, United States
CATEGORIES:Heart Health
ATTACH;FMTTYPE=image/png:https://vnahealth.com/wp-content/uploads/2022/02/heart-health-146x146-1.png
END:VEVENT
BEGIN:VEVENT
DTSTART;TZID=UTC:20220810T100000
DTEND;TZID=UTC:20220810T113000
DTSTAMP:20260419T182857
CREATED:20220224T170412Z
LAST-MODIFIED:20220224T170412Z
UID:10004235-1660125600-1660131000@vnahealth.com
SUMMARY:Step by Step - Heart Health
DESCRIPTION:Learn simple lifestyle changes that can help show your heart some love. Do it for you\, do it for your family!
URL:https://vnahealth.com/event/step-by-step-heart-health/2022-08-10/
LOCATION:Aurora Healthy Lifestyle Center & Kitchen\, 2nd Floor\, 400 N. Highland Ave.\, Aurora\, IL\, 60506\, United States
CATEGORIES:Heart Health
ATTACH;FMTTYPE=image/png:https://vnahealth.com/wp-content/uploads/2022/02/heart-health-146x146-1.png
END:VEVENT
BEGIN:VEVENT
DTSTART;TZID=UTC:20220803T100000
DTEND;TZID=UTC:20220803T113000
DTSTAMP:20260419T182857
CREATED:20220224T170412Z
LAST-MODIFIED:20220224T170412Z
UID:10004234-1659520800-1659526200@vnahealth.com
SUMMARY:Step by Step - Heart Health
DESCRIPTION:Learn simple lifestyle changes that can help show your heart some love. Do it for you\, do it for your family!
URL:https://vnahealth.com/event/step-by-step-heart-health/2022-08-03/
LOCATION:Aurora Healthy Lifestyle Center & Kitchen\, 2nd Floor\, 400 N. Highland Ave.\, Aurora\, IL\, 60506\, United States
CATEGORIES:Heart Health
ATTACH;FMTTYPE=image/png:https://vnahealth.com/wp-content/uploads/2022/02/heart-health-146x146-1.png
END:VEVENT
END:VCALENDAR