BEGIN:VCALENDAR
VERSION:2.0
PRODID:-//VNA Health Care - ECPv6.15.17.1//NONSGML v1.0//EN
CALSCALE:GREGORIAN
METHOD:PUBLISH
X-WR-CALNAME:VNA Health Care
X-ORIGINAL-URL:https://vnahealth.com
X-WR-CALDESC:Events for VNA Health Care
REFRESH-INTERVAL;VALUE=DURATION:PT1H
X-Robots-Tag:noindex
X-PUBLISHED-TTL:PT1H
BEGIN:VTIMEZONE
TZID:UTC
BEGIN:STANDARD
TZOFFSETFROM:+0000
TZOFFSETTO:+0000
TZNAME:UTC
DTSTART:20200101T000000
END:STANDARD
END:VTIMEZONE
BEGIN:VEVENT
DTSTART;TZID=UTC:20220608T100000
DTEND;TZID=UTC:20220608T113000
DTSTAMP:20260419T195954
CREATED:20220224T170412Z
LAST-MODIFIED:20220224T170412Z
UID:10004226-1654682400-1654687800@vnahealth.com
SUMMARY:Step by Step - Heart Health
DESCRIPTION:Learn simple lifestyle changes that can help show your heart some love. Do it for you\, do it for your family!
URL:https://vnahealth.com/event/step-by-step-heart-health/2022-06-08/
LOCATION:Aurora Healthy Lifestyle Center & Kitchen\, 2nd Floor\, 400 N. Highland Ave.\, Aurora\, IL\, 60506\, United States
CATEGORIES:Heart Health
ATTACH;FMTTYPE=image/png:https://vnahealth.com/wp-content/uploads/2022/02/heart-health-146x146-1.png
END:VEVENT
BEGIN:VEVENT
DTSTART;TZID=UTC:20220601T100000
DTEND;TZID=UTC:20220601T113000
DTSTAMP:20260419T195955
CREATED:20220224T170412Z
LAST-MODIFIED:20220224T170412Z
UID:10004225-1654077600-1654083000@vnahealth.com
SUMMARY:Step by Step - Heart Health
DESCRIPTION:Learn simple lifestyle changes that can help show your heart some love. Do it for you\, do it for your family!
URL:https://vnahealth.com/event/step-by-step-heart-health/2022-06-01/
LOCATION:Aurora Healthy Lifestyle Center & Kitchen\, 2nd Floor\, 400 N. Highland Ave.\, Aurora\, IL\, 60506\, United States
CATEGORIES:Heart Health
ATTACH;FMTTYPE=image/png:https://vnahealth.com/wp-content/uploads/2022/02/heart-health-146x146-1.png
END:VEVENT
BEGIN:VEVENT
DTSTART;TZID=UTC:20220526T140000
DTEND;TZID=UTC:20220526T153000
DTSTAMP:20260419T195955
CREATED:20221114T054621Z
LAST-MODIFIED:20221114T054621Z
UID:10004645-1653573600-1653579000@vnahealth.com
SUMMARY:Take a Break with VNA
DESCRIPTION:Are you young at heart?\nInterested in making some new friends?\nWell you’ve come to the right place! \nHighlights Include: \n• Healthy Tips from the Experts \n• A different activity each time— Easy Cooking Tutorials\, Games\, and Exercise \n• Light refreshments will be served \n• Carers Welcome! \nRSVPs preferred\, click on register button. Walk-ins Welcome.\nCall (630) 482-8178 or email takeabreak@vnahealth.com for more information.
URL:https://vnahealth.com/event/take-a-break-with-vna-2-2/2022-05-26/
LOCATION:Aurora Healthy Lifestyle Center & Kitchen\, 2nd Floor\, 400 N. Highland Ave.\, Aurora\, IL\, 60506\, United States
CATEGORIES:Take a Break with VNA
ATTACH;FMTTYPE=image/jpeg:https://vnahealth.com/wp-content/uploads/2022/05/iStock-1167972017cmyk-scaled-e1680809028628.jpg
END:VEVENT
BEGIN:VEVENT
DTSTART;TZID=UTC:20220525T100000
DTEND;TZID=UTC:20220525T113000
DTSTAMP:20260419T195955
CREATED:20220224T170412Z
LAST-MODIFIED:20220224T170412Z
UID:10004224-1653472800-1653478200@vnahealth.com
SUMMARY:Step by Step - Heart Health
DESCRIPTION:Learn simple lifestyle changes that can help show your heart some love. Do it for you\, do it for your family!
URL:https://vnahealth.com/event/step-by-step-heart-health/2022-05-25/
LOCATION:Aurora Healthy Lifestyle Center & Kitchen\, 2nd Floor\, 400 N. Highland Ave.\, Aurora\, IL\, 60506\, United States
CATEGORIES:Heart Health
ATTACH;FMTTYPE=image/png:https://vnahealth.com/wp-content/uploads/2022/02/heart-health-146x146-1.png
END:VEVENT
BEGIN:VEVENT
DTSTART;TZID=UTC:20220518T100000
DTEND;TZID=UTC:20220518T113000
DTSTAMP:20260419T195955
CREATED:20220224T170412Z
LAST-MODIFIED:20220224T170412Z
UID:10004223-1652868000-1652873400@vnahealth.com
SUMMARY:Step by Step - Heart Health
DESCRIPTION:Learn simple lifestyle changes that can help show your heart some love. Do it for you\, do it for your family!
URL:https://vnahealth.com/event/step-by-step-heart-health/2022-05-18/
LOCATION:Aurora Healthy Lifestyle Center & Kitchen\, 2nd Floor\, 400 N. Highland Ave.\, Aurora\, IL\, 60506\, United States
CATEGORIES:Heart Health
ATTACH;FMTTYPE=image/png:https://vnahealth.com/wp-content/uploads/2022/02/heart-health-146x146-1.png
END:VEVENT
BEGIN:VEVENT
DTSTART;TZID=UTC:20220511T100000
DTEND;TZID=UTC:20220511T113000
DTSTAMP:20260419T195955
CREATED:20220224T170412Z
LAST-MODIFIED:20220224T170412Z
UID:10004222-1652263200-1652268600@vnahealth.com
SUMMARY:Step by Step - Heart Health
DESCRIPTION:Learn simple lifestyle changes that can help show your heart some love. Do it for you\, do it for your family!
URL:https://vnahealth.com/event/step-by-step-heart-health/2022-05-11/
LOCATION:Aurora Healthy Lifestyle Center & Kitchen\, 2nd Floor\, 400 N. Highland Ave.\, Aurora\, IL\, 60506\, United States
CATEGORIES:Heart Health
ATTACH;FMTTYPE=image/png:https://vnahealth.com/wp-content/uploads/2022/02/heart-health-146x146-1.png
END:VEVENT
BEGIN:VEVENT
DTSTART;TZID=UTC:20220504T100000
DTEND;TZID=UTC:20220504T113000
DTSTAMP:20260419T195955
CREATED:20220224T170412Z
LAST-MODIFIED:20220224T170412Z
UID:10004221-1651658400-1651663800@vnahealth.com
SUMMARY:Step by Step - Heart Health
DESCRIPTION:Learn simple lifestyle changes that can help show your heart some love. Do it for you\, do it for your family!
URL:https://vnahealth.com/event/step-by-step-heart-health/2022-05-04/
LOCATION:Aurora Healthy Lifestyle Center & Kitchen\, 2nd Floor\, 400 N. Highland Ave.\, Aurora\, IL\, 60506\, United States
CATEGORIES:Heart Health
ATTACH;FMTTYPE=image/png:https://vnahealth.com/wp-content/uploads/2022/02/heart-health-146x146-1.png
END:VEVENT
BEGIN:VEVENT
DTSTART;TZID=UTC:20220427T100000
DTEND;TZID=UTC:20220427T113000
DTSTAMP:20260419T195955
CREATED:20220224T170412Z
LAST-MODIFIED:20220224T170412Z
UID:10004220-1651053600-1651059000@vnahealth.com
SUMMARY:Step by Step - Heart Health
DESCRIPTION:Learn simple lifestyle changes that can help show your heart some love. Do it for you\, do it for your family!
URL:https://vnahealth.com/event/step-by-step-heart-health/2022-04-27/
LOCATION:Aurora Healthy Lifestyle Center & Kitchen\, 2nd Floor\, 400 N. Highland Ave.\, Aurora\, IL\, 60506\, United States
CATEGORIES:Heart Health
ATTACH;FMTTYPE=image/png:https://vnahealth.com/wp-content/uploads/2022/02/heart-health-146x146-1.png
END:VEVENT
BEGIN:VEVENT
DTSTART;TZID=UTC:20220420T100000
DTEND;TZID=UTC:20220420T113000
DTSTAMP:20260419T195955
CREATED:20220224T170412Z
LAST-MODIFIED:20220224T170412Z
UID:10004219-1650448800-1650454200@vnahealth.com
SUMMARY:Step by Step - Heart Health
DESCRIPTION:Learn simple lifestyle changes that can help show your heart some love. Do it for you\, do it for your family!
URL:https://vnahealth.com/event/step-by-step-heart-health/2022-04-20/
LOCATION:Aurora Healthy Lifestyle Center & Kitchen\, 2nd Floor\, 400 N. Highland Ave.\, Aurora\, IL\, 60506\, United States
CATEGORIES:Heart Health
ATTACH;FMTTYPE=image/png:https://vnahealth.com/wp-content/uploads/2022/02/heart-health-146x146-1.png
END:VEVENT
BEGIN:VEVENT
DTSTART;TZID=UTC:20220413T100000
DTEND;TZID=UTC:20220413T113000
DTSTAMP:20260419T195955
CREATED:20220224T170412Z
LAST-MODIFIED:20220224T170412Z
UID:10004218-1649844000-1649849400@vnahealth.com
SUMMARY:Step by Step - Heart Health
DESCRIPTION:Learn simple lifestyle changes that can help show your heart some love. Do it for you\, do it for your family!
URL:https://vnahealth.com/event/step-by-step-heart-health/2022-04-13/
LOCATION:Aurora Healthy Lifestyle Center & Kitchen\, 2nd Floor\, 400 N. Highland Ave.\, Aurora\, IL\, 60506\, United States
CATEGORIES:Heart Health
ATTACH;FMTTYPE=image/png:https://vnahealth.com/wp-content/uploads/2022/02/heart-health-146x146-1.png
END:VEVENT
BEGIN:VEVENT
DTSTART;TZID=UTC:20220406T100000
DTEND;TZID=UTC:20220406T113000
DTSTAMP:20260419T195955
CREATED:20220224T170412Z
LAST-MODIFIED:20220224T170412Z
UID:10004217-1649239200-1649244600@vnahealth.com
SUMMARY:Step by Step - Heart Health
DESCRIPTION:Learn simple lifestyle changes that can help show your heart some love. Do it for you\, do it for your family!
URL:https://vnahealth.com/event/step-by-step-heart-health/2022-04-06/
LOCATION:Aurora Healthy Lifestyle Center & Kitchen\, 2nd Floor\, 400 N. Highland Ave.\, Aurora\, IL\, 60506\, United States
CATEGORIES:Heart Health
ATTACH;FMTTYPE=image/png:https://vnahealth.com/wp-content/uploads/2022/02/heart-health-146x146-1.png
END:VEVENT
BEGIN:VEVENT
DTSTART;TZID=UTC:20220330T100000
DTEND;TZID=UTC:20220330T113000
DTSTAMP:20260419T195955
CREATED:20220224T170412Z
LAST-MODIFIED:20220224T170412Z
UID:10004216-1648634400-1648639800@vnahealth.com
SUMMARY:Step by Step - Heart Health
DESCRIPTION:Learn simple lifestyle changes that can help show your heart some love. Do it for you\, do it for your family!
URL:https://vnahealth.com/event/step-by-step-heart-health/2022-03-30/
LOCATION:Aurora Healthy Lifestyle Center & Kitchen\, 2nd Floor\, 400 N. Highland Ave.\, Aurora\, IL\, 60506\, United States
CATEGORIES:Heart Health
ATTACH;FMTTYPE=image/png:https://vnahealth.com/wp-content/uploads/2022/02/heart-health-146x146-1.png
END:VEVENT
BEGIN:VEVENT
DTSTART;TZID=UTC:20220323T100000
DTEND;TZID=UTC:20220323T113000
DTSTAMP:20260419T195955
CREATED:20220224T170412Z
LAST-MODIFIED:20220224T170412Z
UID:10004215-1648029600-1648035000@vnahealth.com
SUMMARY:Step by Step - Heart Health
DESCRIPTION:Learn simple lifestyle changes that can help show your heart some love. Do it for you\, do it for your family!
URL:https://vnahealth.com/event/step-by-step-heart-health/2022-03-23/
LOCATION:Aurora Healthy Lifestyle Center & Kitchen\, 2nd Floor\, 400 N. Highland Ave.\, Aurora\, IL\, 60506\, United States
CATEGORIES:Heart Health
ATTACH;FMTTYPE=image/png:https://vnahealth.com/wp-content/uploads/2022/02/heart-health-146x146-1.png
END:VEVENT
BEGIN:VEVENT
DTSTART;TZID=UTC:20220316T100000
DTEND;TZID=UTC:20220316T113000
DTSTAMP:20260419T195955
CREATED:20220224T170412Z
LAST-MODIFIED:20220224T170412Z
UID:10004214-1647424800-1647430200@vnahealth.com
SUMMARY:Step by Step - Heart Health
DESCRIPTION:Learn simple lifestyle changes that can help show your heart some love. Do it for you\, do it for your family!
URL:https://vnahealth.com/event/step-by-step-heart-health/2022-03-16/
LOCATION:Aurora Healthy Lifestyle Center & Kitchen\, 2nd Floor\, 400 N. Highland Ave.\, Aurora\, IL\, 60506\, United States
CATEGORIES:Heart Health
ATTACH;FMTTYPE=image/png:https://vnahealth.com/wp-content/uploads/2022/02/heart-health-146x146-1.png
END:VEVENT
BEGIN:VEVENT
DTSTART;TZID=UTC:20220309T100000
DTEND;TZID=UTC:20220309T113000
DTSTAMP:20260419T195955
CREATED:20220224T170412Z
LAST-MODIFIED:20220224T170412Z
UID:10004213-1646820000-1646825400@vnahealth.com
SUMMARY:Step by Step - Heart Health
DESCRIPTION:Learn simple lifestyle changes that can help show your heart some love. Do it for you\, do it for your family!
URL:https://vnahealth.com/event/step-by-step-heart-health/2022-03-09/
LOCATION:Aurora Healthy Lifestyle Center & Kitchen\, 2nd Floor\, 400 N. Highland Ave.\, Aurora\, IL\, 60506\, United States
CATEGORIES:Heart Health
ATTACH;FMTTYPE=image/png:https://vnahealth.com/wp-content/uploads/2022/02/heart-health-146x146-1.png
END:VEVENT
BEGIN:VEVENT
DTSTART;TZID=UTC:20220302T100000
DTEND;TZID=UTC:20220302T113000
DTSTAMP:20260419T195955
CREATED:20220224T170412Z
LAST-MODIFIED:20220224T170412Z
UID:10004212-1646215200-1646220600@vnahealth.com
SUMMARY:Step by Step - Heart Health
DESCRIPTION:Learn simple lifestyle changes that can help show your heart some love. Do it for you\, do it for your family!
URL:https://vnahealth.com/event/step-by-step-heart-health/2022-03-02/
LOCATION:Aurora Healthy Lifestyle Center & Kitchen\, 2nd Floor\, 400 N. Highland Ave.\, Aurora\, IL\, 60506\, United States
CATEGORIES:Heart Health
ATTACH;FMTTYPE=image/png:https://vnahealth.com/wp-content/uploads/2022/02/heart-health-146x146-1.png
END:VEVENT
BEGIN:VEVENT
DTSTART;TZID=UTC:20220223T100000
DTEND;TZID=UTC:20220223T113000
DTSTAMP:20260419T195955
CREATED:20220224T170412Z
LAST-MODIFIED:20220224T170412Z
UID:10004211-1645610400-1645615800@vnahealth.com
SUMMARY:Step by Step - Heart Health
DESCRIPTION:Learn simple lifestyle changes that can help show your heart some love. Do it for you\, do it for your family!
URL:https://vnahealth.com/event/step-by-step-heart-health/2022-02-23/
LOCATION:Aurora Healthy Lifestyle Center & Kitchen\, 2nd Floor\, 400 N. Highland Ave.\, Aurora\, IL\, 60506\, United States
CATEGORIES:Heart Health
ATTACH;FMTTYPE=image/png:https://vnahealth.com/wp-content/uploads/2022/02/heart-health-146x146-1.png
END:VEVENT
BEGIN:VEVENT
DTSTART;TZID=UTC:20220216T100000
DTEND;TZID=UTC:20220216T113000
DTSTAMP:20260419T195955
CREATED:20220224T170412Z
LAST-MODIFIED:20220224T170412Z
UID:10004210-1645005600-1645011000@vnahealth.com
SUMMARY:Step by Step - Heart Health
DESCRIPTION:Learn simple lifestyle changes that can help show your heart some love. Do it for you\, do it for your family!
URL:https://vnahealth.com/event/step-by-step-heart-health/2022-02-16/
LOCATION:Aurora Healthy Lifestyle Center & Kitchen\, 2nd Floor\, 400 N. Highland Ave.\, Aurora\, IL\, 60506\, United States
CATEGORIES:Heart Health
ATTACH;FMTTYPE=image/png:https://vnahealth.com/wp-content/uploads/2022/02/heart-health-146x146-1.png
END:VEVENT
BEGIN:VEVENT
DTSTART;TZID=UTC:20220209T100000
DTEND;TZID=UTC:20220209T113000
DTSTAMP:20260419T195955
CREATED:20220224T170412Z
LAST-MODIFIED:20220224T170412Z
UID:10004209-1644400800-1644406200@vnahealth.com
SUMMARY:Step by Step - Heart Health
DESCRIPTION:Learn simple lifestyle changes that can help show your heart some love. Do it for you\, do it for your family!
URL:https://vnahealth.com/event/step-by-step-heart-health/2022-02-09/
LOCATION:Aurora Healthy Lifestyle Center & Kitchen\, 2nd Floor\, 400 N. Highland Ave.\, Aurora\, IL\, 60506\, United States
CATEGORIES:Heart Health
ATTACH;FMTTYPE=image/png:https://vnahealth.com/wp-content/uploads/2022/02/heart-health-146x146-1.png
END:VEVENT
BEGIN:VEVENT
DTSTART;TZID=UTC:20220202T100000
DTEND;TZID=UTC:20220202T113000
DTSTAMP:20260419T195955
CREATED:20220224T170412Z
LAST-MODIFIED:20220224T170412Z
UID:10004208-1643796000-1643801400@vnahealth.com
SUMMARY:Step by Step - Heart Health
DESCRIPTION:Learn simple lifestyle changes that can help show your heart some love. Do it for you\, do it for your family!
URL:https://vnahealth.com/event/step-by-step-heart-health/2022-02-02/
LOCATION:Aurora Healthy Lifestyle Center & Kitchen\, 2nd Floor\, 400 N. Highland Ave.\, Aurora\, IL\, 60506\, United States
CATEGORIES:Heart Health
ATTACH;FMTTYPE=image/png:https://vnahealth.com/wp-content/uploads/2022/02/heart-health-146x146-1.png
END:VEVENT
BEGIN:VEVENT
DTSTART;TZID=UTC:20220126T100000
DTEND;TZID=UTC:20220126T113000
DTSTAMP:20260419T195955
CREATED:20220224T170412Z
LAST-MODIFIED:20220224T170412Z
UID:10004207-1643191200-1643196600@vnahealth.com
SUMMARY:Step by Step - Heart Health
DESCRIPTION:Learn simple lifestyle changes that can help show your heart some love. Do it for you\, do it for your family!
URL:https://vnahealth.com/event/step-by-step-heart-health/2022-01-26/
LOCATION:Aurora Healthy Lifestyle Center & Kitchen\, 2nd Floor\, 400 N. Highland Ave.\, Aurora\, IL\, 60506\, United States
CATEGORIES:Heart Health
ATTACH;FMTTYPE=image/png:https://vnahealth.com/wp-content/uploads/2022/02/heart-health-146x146-1.png
END:VEVENT
BEGIN:VEVENT
DTSTART;TZID=UTC:20220119T100000
DTEND;TZID=UTC:20220119T113000
DTSTAMP:20260419T195955
CREATED:20220224T170412Z
LAST-MODIFIED:20220224T170412Z
UID:10004206-1642586400-1642591800@vnahealth.com
SUMMARY:Step by Step - Heart Health
DESCRIPTION:Learn simple lifestyle changes that can help show your heart some love. Do it for you\, do it for your family!
URL:https://vnahealth.com/event/step-by-step-heart-health/2022-01-19/
LOCATION:Aurora Healthy Lifestyle Center & Kitchen\, 2nd Floor\, 400 N. Highland Ave.\, Aurora\, IL\, 60506\, United States
CATEGORIES:Heart Health
ATTACH;FMTTYPE=image/png:https://vnahealth.com/wp-content/uploads/2022/02/heart-health-146x146-1.png
END:VEVENT
BEGIN:VEVENT
DTSTART;TZID=UTC:20220112T100000
DTEND;TZID=UTC:20220112T113000
DTSTAMP:20260419T195955
CREATED:20220224T170412Z
LAST-MODIFIED:20220224T170412Z
UID:10004205-1641981600-1641987000@vnahealth.com
SUMMARY:Step by Step - Heart Health
DESCRIPTION:Learn simple lifestyle changes that can help show your heart some love. Do it for you\, do it for your family!
URL:https://vnahealth.com/event/step-by-step-heart-health/2022-01-12/
LOCATION:Aurora Healthy Lifestyle Center & Kitchen\, 2nd Floor\, 400 N. Highland Ave.\, Aurora\, IL\, 60506\, United States
CATEGORIES:Heart Health
ATTACH;FMTTYPE=image/png:https://vnahealth.com/wp-content/uploads/2022/02/heart-health-146x146-1.png
END:VEVENT
BEGIN:VEVENT
DTSTART;TZID=UTC:20220105T100000
DTEND;TZID=UTC:20220105T113000
DTSTAMP:20260419T195955
CREATED:20220224T170412Z
LAST-MODIFIED:20220224T170412Z
UID:10004204-1641376800-1641382200@vnahealth.com
SUMMARY:Step by Step - Heart Health
DESCRIPTION:Learn simple lifestyle changes that can help show your heart some love. Do it for you\, do it for your family!
URL:https://vnahealth.com/event/step-by-step-heart-health/2022-01-05/
LOCATION:Aurora Healthy Lifestyle Center & Kitchen\, 2nd Floor\, 400 N. Highland Ave.\, Aurora\, IL\, 60506\, United States
CATEGORIES:Heart Health
ATTACH;FMTTYPE=image/png:https://vnahealth.com/wp-content/uploads/2022/02/heart-health-146x146-1.png
END:VEVENT
BEGIN:VEVENT
DTSTART;TZID=UTC:20211229T100000
DTEND;TZID=UTC:20211229T113000
DTSTAMP:20260419T195955
CREATED:20220224T170412Z
LAST-MODIFIED:20220224T170412Z
UID:10004203-1640772000-1640777400@vnahealth.com
SUMMARY:Step by Step - Heart Health
DESCRIPTION:Learn simple lifestyle changes that can help show your heart some love. Do it for you\, do it for your family!
URL:https://vnahealth.com/event/step-by-step-heart-health/2021-12-29/
LOCATION:Aurora Healthy Lifestyle Center & Kitchen\, 2nd Floor\, 400 N. Highland Ave.\, Aurora\, IL\, 60506\, United States
CATEGORIES:Heart Health
ATTACH;FMTTYPE=image/png:https://vnahealth.com/wp-content/uploads/2022/02/heart-health-146x146-1.png
END:VEVENT
BEGIN:VEVENT
DTSTART;TZID=UTC:20211222T100000
DTEND;TZID=UTC:20211222T113000
DTSTAMP:20260419T195955
CREATED:20220224T170412Z
LAST-MODIFIED:20220224T170412Z
UID:10004202-1640167200-1640172600@vnahealth.com
SUMMARY:Step by Step - Heart Health
DESCRIPTION:Learn simple lifestyle changes that can help show your heart some love. Do it for you\, do it for your family!
URL:https://vnahealth.com/event/step-by-step-heart-health/2021-12-22/
LOCATION:Aurora Healthy Lifestyle Center & Kitchen\, 2nd Floor\, 400 N. Highland Ave.\, Aurora\, IL\, 60506\, United States
CATEGORIES:Heart Health
ATTACH;FMTTYPE=image/png:https://vnahealth.com/wp-content/uploads/2022/02/heart-health-146x146-1.png
END:VEVENT
BEGIN:VEVENT
DTSTART;TZID=UTC:20211215T100000
DTEND;TZID=UTC:20211215T113000
DTSTAMP:20260419T195955
CREATED:20220224T170412Z
LAST-MODIFIED:20220224T170412Z
UID:10004201-1639562400-1639567800@vnahealth.com
SUMMARY:Step by Step - Heart Health
DESCRIPTION:Learn simple lifestyle changes that can help show your heart some love. Do it for you\, do it for your family!
URL:https://vnahealth.com/event/step-by-step-heart-health/2021-12-15/
LOCATION:Aurora Healthy Lifestyle Center & Kitchen\, 2nd Floor\, 400 N. Highland Ave.\, Aurora\, IL\, 60506\, United States
CATEGORIES:Heart Health
ATTACH;FMTTYPE=image/png:https://vnahealth.com/wp-content/uploads/2022/02/heart-health-146x146-1.png
END:VEVENT
BEGIN:VEVENT
DTSTART;TZID=UTC:20211208T100000
DTEND;TZID=UTC:20211208T113000
DTSTAMP:20260419T195955
CREATED:20220224T170412Z
LAST-MODIFIED:20220224T170412Z
UID:10004200-1638957600-1638963000@vnahealth.com
SUMMARY:Step by Step - Heart Health
DESCRIPTION:Learn simple lifestyle changes that can help show your heart some love. Do it for you\, do it for your family!
URL:https://vnahealth.com/event/step-by-step-heart-health/2021-12-08/
LOCATION:Aurora Healthy Lifestyle Center & Kitchen\, 2nd Floor\, 400 N. Highland Ave.\, Aurora\, IL\, 60506\, United States
CATEGORIES:Heart Health
ATTACH;FMTTYPE=image/png:https://vnahealth.com/wp-content/uploads/2022/02/heart-health-146x146-1.png
END:VEVENT
BEGIN:VEVENT
DTSTART;TZID=UTC:20211201T100000
DTEND;TZID=UTC:20211201T113000
DTSTAMP:20260419T195955
CREATED:20220224T170412Z
LAST-MODIFIED:20220224T170412Z
UID:10004199-1638352800-1638358200@vnahealth.com
SUMMARY:Step by Step - Heart Health
DESCRIPTION:Learn simple lifestyle changes that can help show your heart some love. Do it for you\, do it for your family!
URL:https://vnahealth.com/event/step-by-step-heart-health/2021-12-01/
LOCATION:Aurora Healthy Lifestyle Center & Kitchen\, 2nd Floor\, 400 N. Highland Ave.\, Aurora\, IL\, 60506\, United States
CATEGORIES:Heart Health
ATTACH;FMTTYPE=image/png:https://vnahealth.com/wp-content/uploads/2022/02/heart-health-146x146-1.png
END:VEVENT
BEGIN:VEVENT
DTSTART;TZID=UTC:20211124T100000
DTEND;TZID=UTC:20211124T113000
DTSTAMP:20260419T195955
CREATED:20220224T170412Z
LAST-MODIFIED:20220224T170412Z
UID:10004198-1637748000-1637753400@vnahealth.com
SUMMARY:Step by Step - Heart Health
DESCRIPTION:Learn simple lifestyle changes that can help show your heart some love. Do it for you\, do it for your family!
URL:https://vnahealth.com/event/step-by-step-heart-health/2021-11-24/
LOCATION:Aurora Healthy Lifestyle Center & Kitchen\, 2nd Floor\, 400 N. Highland Ave.\, Aurora\, IL\, 60506\, United States
CATEGORIES:Heart Health
ATTACH;FMTTYPE=image/png:https://vnahealth.com/wp-content/uploads/2022/02/heart-health-146x146-1.png
END:VEVENT
END:VCALENDAR