BEGIN:VCALENDAR
VERSION:2.0
PRODID:-//VNA Health Care - ECPv6.15.17.1//NONSGML v1.0//EN
CALSCALE:GREGORIAN
METHOD:PUBLISH
X-ORIGINAL-URL:https://vnahealth.com
X-WR-CALDESC:Events for VNA Health Care
REFRESH-INTERVAL;VALUE=DURATION:PT1H
X-Robots-Tag:noindex
X-PUBLISHED-TTL:PT1H
BEGIN:VTIMEZONE
TZID:UTC
BEGIN:STANDARD
TZOFFSETFROM:+0000
TZOFFSETTO:+0000
TZNAME:UTC
DTSTART:20200101T000000
END:STANDARD
END:VTIMEZONE
BEGIN:VEVENT
DTSTART;TZID=UTC:20220126T100000
DTEND;TZID=UTC:20220126T113000
DTSTAMP:20260419T231444
CREATED:20220224T170412Z
LAST-MODIFIED:20220224T170412Z
UID:10004207-1643191200-1643196600@vnahealth.com
SUMMARY:Step by Step - Heart Health
DESCRIPTION:Learn simple lifestyle changes that can help show your heart some love. Do it for you\, do it for your family!
URL:https://vnahealth.com/event/step-by-step-heart-health/2022-01-26/
LOCATION:Aurora Healthy Lifestyle Center & Kitchen\, 2nd Floor\, 400 N. Highland Ave.\, Aurora\, IL\, 60506\, United States
CATEGORIES:Heart Health
ATTACH;FMTTYPE=image/png:https://vnahealth.com/wp-content/uploads/2022/02/heart-health-146x146-1.png
END:VEVENT
BEGIN:VEVENT
DTSTART;TZID=UTC:20220119T100000
DTEND;TZID=UTC:20220119T113000
DTSTAMP:20260419T231444
CREATED:20220224T170412Z
LAST-MODIFIED:20220224T170412Z
UID:10004206-1642586400-1642591800@vnahealth.com
SUMMARY:Step by Step - Heart Health
DESCRIPTION:Learn simple lifestyle changes that can help show your heart some love. Do it for you\, do it for your family!
URL:https://vnahealth.com/event/step-by-step-heart-health/2022-01-19/
LOCATION:Aurora Healthy Lifestyle Center & Kitchen\, 2nd Floor\, 400 N. Highland Ave.\, Aurora\, IL\, 60506\, United States
CATEGORIES:Heart Health
ATTACH;FMTTYPE=image/png:https://vnahealth.com/wp-content/uploads/2022/02/heart-health-146x146-1.png
END:VEVENT
BEGIN:VEVENT
DTSTART;TZID=UTC:20220112T100000
DTEND;TZID=UTC:20220112T113000
DTSTAMP:20260419T231444
CREATED:20220224T170412Z
LAST-MODIFIED:20220224T170412Z
UID:10004205-1641981600-1641987000@vnahealth.com
SUMMARY:Step by Step - Heart Health
DESCRIPTION:Learn simple lifestyle changes that can help show your heart some love. Do it for you\, do it for your family!
URL:https://vnahealth.com/event/step-by-step-heart-health/2022-01-12/
LOCATION:Aurora Healthy Lifestyle Center & Kitchen\, 2nd Floor\, 400 N. Highland Ave.\, Aurora\, IL\, 60506\, United States
CATEGORIES:Heart Health
ATTACH;FMTTYPE=image/png:https://vnahealth.com/wp-content/uploads/2022/02/heart-health-146x146-1.png
END:VEVENT
BEGIN:VEVENT
DTSTART;TZID=UTC:20220105T100000
DTEND;TZID=UTC:20220105T113000
DTSTAMP:20260419T231444
CREATED:20220224T170412Z
LAST-MODIFIED:20220224T170412Z
UID:10004204-1641376800-1641382200@vnahealth.com
SUMMARY:Step by Step - Heart Health
DESCRIPTION:Learn simple lifestyle changes that can help show your heart some love. Do it for you\, do it for your family!
URL:https://vnahealth.com/event/step-by-step-heart-health/2022-01-05/
LOCATION:Aurora Healthy Lifestyle Center & Kitchen\, 2nd Floor\, 400 N. Highland Ave.\, Aurora\, IL\, 60506\, United States
CATEGORIES:Heart Health
ATTACH;FMTTYPE=image/png:https://vnahealth.com/wp-content/uploads/2022/02/heart-health-146x146-1.png
END:VEVENT
BEGIN:VEVENT
DTSTART;TZID=UTC:20211229T100000
DTEND;TZID=UTC:20211229T113000
DTSTAMP:20260419T231444
CREATED:20220224T170412Z
LAST-MODIFIED:20220224T170412Z
UID:10004203-1640772000-1640777400@vnahealth.com
SUMMARY:Step by Step - Heart Health
DESCRIPTION:Learn simple lifestyle changes that can help show your heart some love. Do it for you\, do it for your family!
URL:https://vnahealth.com/event/step-by-step-heart-health/2021-12-29/
LOCATION:Aurora Healthy Lifestyle Center & Kitchen\, 2nd Floor\, 400 N. Highland Ave.\, Aurora\, IL\, 60506\, United States
CATEGORIES:Heart Health
ATTACH;FMTTYPE=image/png:https://vnahealth.com/wp-content/uploads/2022/02/heart-health-146x146-1.png
END:VEVENT
BEGIN:VEVENT
DTSTART;TZID=UTC:20211222T100000
DTEND;TZID=UTC:20211222T113000
DTSTAMP:20260419T231444
CREATED:20220224T170412Z
LAST-MODIFIED:20220224T170412Z
UID:10004202-1640167200-1640172600@vnahealth.com
SUMMARY:Step by Step - Heart Health
DESCRIPTION:Learn simple lifestyle changes that can help show your heart some love. Do it for you\, do it for your family!
URL:https://vnahealth.com/event/step-by-step-heart-health/2021-12-22/
LOCATION:Aurora Healthy Lifestyle Center & Kitchen\, 2nd Floor\, 400 N. Highland Ave.\, Aurora\, IL\, 60506\, United States
CATEGORIES:Heart Health
ATTACH;FMTTYPE=image/png:https://vnahealth.com/wp-content/uploads/2022/02/heart-health-146x146-1.png
END:VEVENT
BEGIN:VEVENT
DTSTART;TZID=UTC:20211215T100000
DTEND;TZID=UTC:20211215T113000
DTSTAMP:20260419T231444
CREATED:20220224T170412Z
LAST-MODIFIED:20220224T170412Z
UID:10004201-1639562400-1639567800@vnahealth.com
SUMMARY:Step by Step - Heart Health
DESCRIPTION:Learn simple lifestyle changes that can help show your heart some love. Do it for you\, do it for your family!
URL:https://vnahealth.com/event/step-by-step-heart-health/2021-12-15/
LOCATION:Aurora Healthy Lifestyle Center & Kitchen\, 2nd Floor\, 400 N. Highland Ave.\, Aurora\, IL\, 60506\, United States
CATEGORIES:Heart Health
ATTACH;FMTTYPE=image/png:https://vnahealth.com/wp-content/uploads/2022/02/heart-health-146x146-1.png
END:VEVENT
BEGIN:VEVENT
DTSTART;TZID=UTC:20211208T100000
DTEND;TZID=UTC:20211208T113000
DTSTAMP:20260419T231444
CREATED:20220224T170412Z
LAST-MODIFIED:20220224T170412Z
UID:10004200-1638957600-1638963000@vnahealth.com
SUMMARY:Step by Step - Heart Health
DESCRIPTION:Learn simple lifestyle changes that can help show your heart some love. Do it for you\, do it for your family!
URL:https://vnahealth.com/event/step-by-step-heart-health/2021-12-08/
LOCATION:Aurora Healthy Lifestyle Center & Kitchen\, 2nd Floor\, 400 N. Highland Ave.\, Aurora\, IL\, 60506\, United States
CATEGORIES:Heart Health
ATTACH;FMTTYPE=image/png:https://vnahealth.com/wp-content/uploads/2022/02/heart-health-146x146-1.png
END:VEVENT
BEGIN:VEVENT
DTSTART;TZID=UTC:20211201T100000
DTEND;TZID=UTC:20211201T113000
DTSTAMP:20260419T231444
CREATED:20220224T170412Z
LAST-MODIFIED:20220224T170412Z
UID:10004199-1638352800-1638358200@vnahealth.com
SUMMARY:Step by Step - Heart Health
DESCRIPTION:Learn simple lifestyle changes that can help show your heart some love. Do it for you\, do it for your family!
URL:https://vnahealth.com/event/step-by-step-heart-health/2021-12-01/
LOCATION:Aurora Healthy Lifestyle Center & Kitchen\, 2nd Floor\, 400 N. Highland Ave.\, Aurora\, IL\, 60506\, United States
CATEGORIES:Heart Health
ATTACH;FMTTYPE=image/png:https://vnahealth.com/wp-content/uploads/2022/02/heart-health-146x146-1.png
END:VEVENT
BEGIN:VEVENT
DTSTART;TZID=UTC:20211124T100000
DTEND;TZID=UTC:20211124T113000
DTSTAMP:20260419T231444
CREATED:20220224T170412Z
LAST-MODIFIED:20220224T170412Z
UID:10004198-1637748000-1637753400@vnahealth.com
SUMMARY:Step by Step - Heart Health
DESCRIPTION:Learn simple lifestyle changes that can help show your heart some love. Do it for you\, do it for your family!
URL:https://vnahealth.com/event/step-by-step-heart-health/2021-11-24/
LOCATION:Aurora Healthy Lifestyle Center & Kitchen\, 2nd Floor\, 400 N. Highland Ave.\, Aurora\, IL\, 60506\, United States
CATEGORIES:Heart Health
ATTACH;FMTTYPE=image/png:https://vnahealth.com/wp-content/uploads/2022/02/heart-health-146x146-1.png
END:VEVENT
BEGIN:VEVENT
DTSTART;TZID=UTC:20211117T100000
DTEND;TZID=UTC:20211117T113000
DTSTAMP:20260419T231444
CREATED:20220224T170412Z
LAST-MODIFIED:20220224T170412Z
UID:10004197-1637143200-1637148600@vnahealth.com
SUMMARY:Step by Step - Heart Health
DESCRIPTION:Learn simple lifestyle changes that can help show your heart some love. Do it for you\, do it for your family!
URL:https://vnahealth.com/event/step-by-step-heart-health/2021-11-17/
LOCATION:Aurora Healthy Lifestyle Center & Kitchen\, 2nd Floor\, 400 N. Highland Ave.\, Aurora\, IL\, 60506\, United States
CATEGORIES:Heart Health
ATTACH;FMTTYPE=image/png:https://vnahealth.com/wp-content/uploads/2022/02/heart-health-146x146-1.png
END:VEVENT
BEGIN:VEVENT
DTSTART;TZID=UTC:20211110T100000
DTEND;TZID=UTC:20211110T113000
DTSTAMP:20260419T231444
CREATED:20220224T170412Z
LAST-MODIFIED:20220224T170412Z
UID:10004196-1636538400-1636543800@vnahealth.com
SUMMARY:Step by Step - Heart Health
DESCRIPTION:Learn simple lifestyle changes that can help show your heart some love. Do it for you\, do it for your family!
URL:https://vnahealth.com/event/step-by-step-heart-health/2021-11-10/
LOCATION:Aurora Healthy Lifestyle Center & Kitchen\, 2nd Floor\, 400 N. Highland Ave.\, Aurora\, IL\, 60506\, United States
CATEGORIES:Heart Health
ATTACH;FMTTYPE=image/png:https://vnahealth.com/wp-content/uploads/2022/02/heart-health-146x146-1.png
END:VEVENT
BEGIN:VEVENT
DTSTART;TZID=UTC:20211103T100000
DTEND;TZID=UTC:20211103T113000
DTSTAMP:20260419T231444
CREATED:20220224T170412Z
LAST-MODIFIED:20220224T170412Z
UID:10004195-1635933600-1635939000@vnahealth.com
SUMMARY:Step by Step - Heart Health
DESCRIPTION:Learn simple lifestyle changes that can help show your heart some love. Do it for you\, do it for your family!
URL:https://vnahealth.com/event/step-by-step-heart-health/2021-11-03/
LOCATION:Aurora Healthy Lifestyle Center & Kitchen\, 2nd Floor\, 400 N. Highland Ave.\, Aurora\, IL\, 60506\, United States
CATEGORIES:Heart Health
ATTACH;FMTTYPE=image/png:https://vnahealth.com/wp-content/uploads/2022/02/heart-health-146x146-1.png
END:VEVENT
BEGIN:VEVENT
DTSTART;TZID=UTC:20211027T100000
DTEND;TZID=UTC:20211027T113000
DTSTAMP:20260419T231444
CREATED:20220224T170412Z
LAST-MODIFIED:20220224T170412Z
UID:10004194-1635328800-1635334200@vnahealth.com
SUMMARY:Step by Step - Heart Health
DESCRIPTION:Learn simple lifestyle changes that can help show your heart some love. Do it for you\, do it for your family!
URL:https://vnahealth.com/event/step-by-step-heart-health/2021-10-27/
LOCATION:Aurora Healthy Lifestyle Center & Kitchen\, 2nd Floor\, 400 N. Highland Ave.\, Aurora\, IL\, 60506\, United States
CATEGORIES:Heart Health
ATTACH;FMTTYPE=image/png:https://vnahealth.com/wp-content/uploads/2022/02/heart-health-146x146-1.png
END:VEVENT
BEGIN:VEVENT
DTSTART;TZID=UTC:20211020T100000
DTEND;TZID=UTC:20211020T113000
DTSTAMP:20260419T231444
CREATED:20220224T170412Z
LAST-MODIFIED:20220224T170412Z
UID:10004193-1634724000-1634729400@vnahealth.com
SUMMARY:Step by Step - Heart Health
DESCRIPTION:Learn simple lifestyle changes that can help show your heart some love. Do it for you\, do it for your family!
URL:https://vnahealth.com/event/step-by-step-heart-health/2021-10-20/
LOCATION:Aurora Healthy Lifestyle Center & Kitchen\, 2nd Floor\, 400 N. Highland Ave.\, Aurora\, IL\, 60506\, United States
CATEGORIES:Heart Health
ATTACH;FMTTYPE=image/png:https://vnahealth.com/wp-content/uploads/2022/02/heart-health-146x146-1.png
END:VEVENT
BEGIN:VEVENT
DTSTART;TZID=UTC:20211013T100000
DTEND;TZID=UTC:20211013T113000
DTSTAMP:20260419T231444
CREATED:20220224T170412Z
LAST-MODIFIED:20220224T170412Z
UID:10004192-1634119200-1634124600@vnahealth.com
SUMMARY:Step by Step - Heart Health
DESCRIPTION:Learn simple lifestyle changes that can help show your heart some love. Do it for you\, do it for your family!
URL:https://vnahealth.com/event/step-by-step-heart-health/2021-10-13/
LOCATION:Aurora Healthy Lifestyle Center & Kitchen\, 2nd Floor\, 400 N. Highland Ave.\, Aurora\, IL\, 60506\, United States
CATEGORIES:Heart Health
ATTACH;FMTTYPE=image/png:https://vnahealth.com/wp-content/uploads/2022/02/heart-health-146x146-1.png
END:VEVENT
BEGIN:VEVENT
DTSTART;TZID=UTC:20211006T100000
DTEND;TZID=UTC:20211006T113000
DTSTAMP:20260419T231444
CREATED:20220224T170412Z
LAST-MODIFIED:20220224T170412Z
UID:10004191-1633514400-1633519800@vnahealth.com
SUMMARY:Step by Step - Heart Health
DESCRIPTION:Learn simple lifestyle changes that can help show your heart some love. Do it for you\, do it for your family!
URL:https://vnahealth.com/event/step-by-step-heart-health/2021-10-06/
LOCATION:Aurora Healthy Lifestyle Center & Kitchen\, 2nd Floor\, 400 N. Highland Ave.\, Aurora\, IL\, 60506\, United States
CATEGORIES:Heart Health
ATTACH;FMTTYPE=image/png:https://vnahealth.com/wp-content/uploads/2022/02/heart-health-146x146-1.png
END:VEVENT
BEGIN:VEVENT
DTSTART;TZID=UTC:20210929T100000
DTEND;TZID=UTC:20210929T113000
DTSTAMP:20260419T231444
CREATED:20220224T170412Z
LAST-MODIFIED:20220224T170412Z
UID:10004190-1632909600-1632915000@vnahealth.com
SUMMARY:Step by Step - Heart Health
DESCRIPTION:Learn simple lifestyle changes that can help show your heart some love. Do it for you\, do it for your family!
URL:https://vnahealth.com/event/step-by-step-heart-health/2021-09-29/
LOCATION:Aurora Healthy Lifestyle Center & Kitchen\, 2nd Floor\, 400 N. Highland Ave.\, Aurora\, IL\, 60506\, United States
CATEGORIES:Heart Health
ATTACH;FMTTYPE=image/png:https://vnahealth.com/wp-content/uploads/2022/02/heart-health-146x146-1.png
END:VEVENT
BEGIN:VEVENT
DTSTART;TZID=UTC:20210922T100000
DTEND;TZID=UTC:20210922T113000
DTSTAMP:20260419T231444
CREATED:20220224T170412Z
LAST-MODIFIED:20220224T170412Z
UID:10004189-1632304800-1632310200@vnahealth.com
SUMMARY:Step by Step - Heart Health
DESCRIPTION:Learn simple lifestyle changes that can help show your heart some love. Do it for you\, do it for your family!
URL:https://vnahealth.com/event/step-by-step-heart-health/2021-09-22/
LOCATION:Aurora Healthy Lifestyle Center & Kitchen\, 2nd Floor\, 400 N. Highland Ave.\, Aurora\, IL\, 60506\, United States
CATEGORIES:Heart Health
ATTACH;FMTTYPE=image/png:https://vnahealth.com/wp-content/uploads/2022/02/heart-health-146x146-1.png
END:VEVENT
BEGIN:VEVENT
DTSTART;TZID=UTC:20210915T100000
DTEND;TZID=UTC:20210915T113000
DTSTAMP:20260419T231444
CREATED:20220224T170412Z
LAST-MODIFIED:20220224T170412Z
UID:10004188-1631700000-1631705400@vnahealth.com
SUMMARY:Step by Step - Heart Health
DESCRIPTION:Learn simple lifestyle changes that can help show your heart some love. Do it for you\, do it for your family!
URL:https://vnahealth.com/event/step-by-step-heart-health/2021-09-15/
LOCATION:Aurora Healthy Lifestyle Center & Kitchen\, 2nd Floor\, 400 N. Highland Ave.\, Aurora\, IL\, 60506\, United States
CATEGORIES:Heart Health
ATTACH;FMTTYPE=image/png:https://vnahealth.com/wp-content/uploads/2022/02/heart-health-146x146-1.png
END:VEVENT
BEGIN:VEVENT
DTSTART;TZID=UTC:20210908T100000
DTEND;TZID=UTC:20210908T113000
DTSTAMP:20260419T231444
CREATED:20220224T170412Z
LAST-MODIFIED:20220224T170412Z
UID:10004187-1631095200-1631100600@vnahealth.com
SUMMARY:Step by Step - Heart Health
DESCRIPTION:Learn simple lifestyle changes that can help show your heart some love. Do it for you\, do it for your family!
URL:https://vnahealth.com/event/step-by-step-heart-health/2021-09-08/
LOCATION:Aurora Healthy Lifestyle Center & Kitchen\, 2nd Floor\, 400 N. Highland Ave.\, Aurora\, IL\, 60506\, United States
CATEGORIES:Heart Health
ATTACH;FMTTYPE=image/png:https://vnahealth.com/wp-content/uploads/2022/02/heart-health-146x146-1.png
END:VEVENT
BEGIN:VEVENT
DTSTART;TZID=UTC:20210901T100000
DTEND;TZID=UTC:20210901T113000
DTSTAMP:20260419T231444
CREATED:20220224T170412Z
LAST-MODIFIED:20220224T170412Z
UID:10004186-1630490400-1630495800@vnahealth.com
SUMMARY:Step by Step - Heart Health
DESCRIPTION:Learn simple lifestyle changes that can help show your heart some love. Do it for you\, do it for your family!
URL:https://vnahealth.com/event/step-by-step-heart-health/2021-09-01/
LOCATION:Aurora Healthy Lifestyle Center & Kitchen\, 2nd Floor\, 400 N. Highland Ave.\, Aurora\, IL\, 60506\, United States
CATEGORIES:Heart Health
ATTACH;FMTTYPE=image/png:https://vnahealth.com/wp-content/uploads/2022/02/heart-health-146x146-1.png
END:VEVENT
BEGIN:VEVENT
DTSTART;TZID=UTC:20210825T100000
DTEND;TZID=UTC:20210825T113000
DTSTAMP:20260419T231444
CREATED:20220224T170412Z
LAST-MODIFIED:20220224T170412Z
UID:10004185-1629885600-1629891000@vnahealth.com
SUMMARY:Step by Step - Heart Health
DESCRIPTION:Learn simple lifestyle changes that can help show your heart some love. Do it for you\, do it for your family!
URL:https://vnahealth.com/event/step-by-step-heart-health/2021-08-25/
LOCATION:Aurora Healthy Lifestyle Center & Kitchen\, 2nd Floor\, 400 N. Highland Ave.\, Aurora\, IL\, 60506\, United States
CATEGORIES:Heart Health
ATTACH;FMTTYPE=image/png:https://vnahealth.com/wp-content/uploads/2022/02/heart-health-146x146-1.png
END:VEVENT
BEGIN:VEVENT
DTSTART;TZID=UTC:20210818T100000
DTEND;TZID=UTC:20210818T113000
DTSTAMP:20260419T231444
CREATED:20220224T170412Z
LAST-MODIFIED:20220224T170412Z
UID:10004184-1629280800-1629286200@vnahealth.com
SUMMARY:Step by Step - Heart Health
DESCRIPTION:Learn simple lifestyle changes that can help show your heart some love. Do it for you\, do it for your family!
URL:https://vnahealth.com/event/step-by-step-heart-health/2021-08-18/
LOCATION:Aurora Healthy Lifestyle Center & Kitchen\, 2nd Floor\, 400 N. Highland Ave.\, Aurora\, IL\, 60506\, United States
CATEGORIES:Heart Health
ATTACH;FMTTYPE=image/png:https://vnahealth.com/wp-content/uploads/2022/02/heart-health-146x146-1.png
END:VEVENT
BEGIN:VEVENT
DTSTART;TZID=UTC:20210811T100000
DTEND;TZID=UTC:20210811T113000
DTSTAMP:20260419T231444
CREATED:20220224T170412Z
LAST-MODIFIED:20220224T170412Z
UID:10004183-1628676000-1628681400@vnahealth.com
SUMMARY:Step by Step - Heart Health
DESCRIPTION:Learn simple lifestyle changes that can help show your heart some love. Do it for you\, do it for your family!
URL:https://vnahealth.com/event/step-by-step-heart-health/2021-08-11/
LOCATION:Aurora Healthy Lifestyle Center & Kitchen\, 2nd Floor\, 400 N. Highland Ave.\, Aurora\, IL\, 60506\, United States
CATEGORIES:Heart Health
ATTACH;FMTTYPE=image/png:https://vnahealth.com/wp-content/uploads/2022/02/heart-health-146x146-1.png
END:VEVENT
BEGIN:VEVENT
DTSTART;TZID=UTC:20210804T100000
DTEND;TZID=UTC:20210804T113000
DTSTAMP:20260419T231444
CREATED:20220224T170412Z
LAST-MODIFIED:20220224T170412Z
UID:10004182-1628071200-1628076600@vnahealth.com
SUMMARY:Step by Step - Heart Health
DESCRIPTION:Learn simple lifestyle changes that can help show your heart some love. Do it for you\, do it for your family!
URL:https://vnahealth.com/event/step-by-step-heart-health/2021-08-04/
LOCATION:Aurora Healthy Lifestyle Center & Kitchen\, 2nd Floor\, 400 N. Highland Ave.\, Aurora\, IL\, 60506\, United States
CATEGORIES:Heart Health
ATTACH;FMTTYPE=image/png:https://vnahealth.com/wp-content/uploads/2022/02/heart-health-146x146-1.png
END:VEVENT
BEGIN:VEVENT
DTSTART;TZID=UTC:20210728T100000
DTEND;TZID=UTC:20210728T113000
DTSTAMP:20260419T231444
CREATED:20220224T170412Z
LAST-MODIFIED:20220224T170412Z
UID:10004181-1627466400-1627471800@vnahealth.com
SUMMARY:Step by Step - Heart Health
DESCRIPTION:Learn simple lifestyle changes that can help show your heart some love. Do it for you\, do it for your family!
URL:https://vnahealth.com/event/step-by-step-heart-health/2021-07-28/
LOCATION:Aurora Healthy Lifestyle Center & Kitchen\, 2nd Floor\, 400 N. Highland Ave.\, Aurora\, IL\, 60506\, United States
CATEGORIES:Heart Health
ATTACH;FMTTYPE=image/png:https://vnahealth.com/wp-content/uploads/2022/02/heart-health-146x146-1.png
END:VEVENT
BEGIN:VEVENT
DTSTART;TZID=UTC:20210721T100000
DTEND;TZID=UTC:20210721T113000
DTSTAMP:20260419T231444
CREATED:20220224T170412Z
LAST-MODIFIED:20220224T170412Z
UID:10004180-1626861600-1626867000@vnahealth.com
SUMMARY:Step by Step - Heart Health
DESCRIPTION:Learn simple lifestyle changes that can help show your heart some love. Do it for you\, do it for your family!
URL:https://vnahealth.com/event/step-by-step-heart-health/2021-07-21/
LOCATION:Aurora Healthy Lifestyle Center & Kitchen\, 2nd Floor\, 400 N. Highland Ave.\, Aurora\, IL\, 60506\, United States
CATEGORIES:Heart Health
ATTACH;FMTTYPE=image/png:https://vnahealth.com/wp-content/uploads/2022/02/heart-health-146x146-1.png
END:VEVENT
BEGIN:VEVENT
DTSTART;TZID=UTC:20210714T100000
DTEND;TZID=UTC:20210714T113000
DTSTAMP:20260419T231444
CREATED:20220224T170412Z
LAST-MODIFIED:20220224T170412Z
UID:10004179-1626256800-1626262200@vnahealth.com
SUMMARY:Step by Step - Heart Health
DESCRIPTION:Learn simple lifestyle changes that can help show your heart some love. Do it for you\, do it for your family!
URL:https://vnahealth.com/event/step-by-step-heart-health/2021-07-14/
LOCATION:Aurora Healthy Lifestyle Center & Kitchen\, 2nd Floor\, 400 N. Highland Ave.\, Aurora\, IL\, 60506\, United States
CATEGORIES:Heart Health
ATTACH;FMTTYPE=image/png:https://vnahealth.com/wp-content/uploads/2022/02/heart-health-146x146-1.png
END:VEVENT
BEGIN:VEVENT
DTSTART;TZID=UTC:20210707T100000
DTEND;TZID=UTC:20210707T113000
DTSTAMP:20260419T231444
CREATED:20220224T170412Z
LAST-MODIFIED:20220224T170412Z
UID:10004178-1625652000-1625657400@vnahealth.com
SUMMARY:Step by Step - Heart Health
DESCRIPTION:Learn simple lifestyle changes that can help show your heart some love. Do it for you\, do it for your family!
URL:https://vnahealth.com/event/step-by-step-heart-health/2021-07-07/
LOCATION:Aurora Healthy Lifestyle Center & Kitchen\, 2nd Floor\, 400 N. Highland Ave.\, Aurora\, IL\, 60506\, United States
CATEGORIES:Heart Health
ATTACH;FMTTYPE=image/png:https://vnahealth.com/wp-content/uploads/2022/02/heart-health-146x146-1.png
END:VEVENT
END:VCALENDAR