BEGIN:VCALENDAR
VERSION:2.0
PRODID:-//VNA Health Care - ECPv6.15.17.1//NONSGML v1.0//EN
CALSCALE:GREGORIAN
METHOD:PUBLISH
X-ORIGINAL-URL:https://vnahealth.com
X-WR-CALDESC:Events for VNA Health Care
REFRESH-INTERVAL;VALUE=DURATION:PT1H
X-Robots-Tag:noindex
X-PUBLISHED-TTL:PT1H
BEGIN:VTIMEZONE
TZID:UTC
BEGIN:STANDARD
TZOFFSETFROM:+0000
TZOFFSETTO:+0000
TZNAME:UTC
DTSTART:20180101T000000
END:STANDARD
END:VTIMEZONE
BEGIN:VEVENT
DTSTART;TZID=UTC:20200415T100000
DTEND;TZID=UTC:20200415T113000
DTSTAMP:20260420T163937
CREATED:20220224T170412Z
LAST-MODIFIED:20220224T192745Z
UID:10004074-1586944800-1586950200@vnahealth.com
SUMMARY:Step by Step - Heart Health
DESCRIPTION:Learn simple lifestyle changes that can help show your heart some love. Do it for you\, do it for your family!
URL:https://vnahealth.com/event/step-by-step-heart-health-2020-04-15/
LOCATION:Aurora Healthy Lifestyle Center & Kitchen\, 2nd Floor\, 400 N. Highland Ave.\, Aurora\, IL\, 60506\, United States
CATEGORIES:Heart Health
ATTACH;FMTTYPE=image/png:https://vnahealth.com/wp-content/uploads/2022/02/heart-health-146x146-1.png
END:VEVENT
BEGIN:VEVENT
DTSTART;TZID=UTC:20200409T120000
DTEND;TZID=UTC:20200409T130000
DTSTAMP:20260420T163937
CREATED:20220224T180540Z
LAST-MODIFIED:20220224T180540Z
UID:10004312-1586433600-1586437200@vnahealth.com
SUMMARY:Friendship Circle
DESCRIPTION:The Friendship Circle provides adults 18 and older including those living with mental health conditions and their families a safe\, stigma free place to make connections with others through a variety of recreational activities. Friendship Circle meets on the second Tuesday of the month from 12:00 to 1:00 p.m. \nThe program is free of charge and meets at VNA\, 400 N. Highland Avenue\, Aurora. For more information\, contact Colleen Balija at NAMI KDK at 630.896.6264 or programs@namikdk.org.
URL:https://vnahealth.com/event/friendship-circle/2020-04-09/
LOCATION:Aurora Healthy Lifestyle Center & Kitchen\, 2nd Floor\, 400 N. Highland Ave.\, Aurora\, IL\, 60506\, United States
CATEGORIES:Support Group
ATTACH;FMTTYPE=image/jpeg:https://vnahealth.com/wp-content/uploads/2022/02/VNA-Community-Resource-Program-Logo-CMYK3-150x146-1.jpeg
END:VEVENT
BEGIN:VEVENT
DTSTART;TZID=UTC:20200408T100000
DTEND;TZID=UTC:20200408T113000
DTSTAMP:20260420T163937
CREATED:20220224T170412Z
LAST-MODIFIED:20220224T170412Z
UID:10004114-1586340000-1586345400@vnahealth.com
SUMMARY:Step by Step - Heart Health
DESCRIPTION:Learn simple lifestyle changes that can help show your heart some love. Do it for you\, do it for your family!
URL:https://vnahealth.com/event/step-by-step-heart-health/2020-04-08/
LOCATION:Aurora Healthy Lifestyle Center & Kitchen\, 2nd Floor\, 400 N. Highland Ave.\, Aurora\, IL\, 60506\, United States
CATEGORIES:Heart Health
ATTACH;FMTTYPE=image/png:https://vnahealth.com/wp-content/uploads/2022/02/heart-health-146x146-1.png
END:VEVENT
BEGIN:VEVENT
DTSTART;TZID=UTC:20200401T100000
DTEND;TZID=UTC:20200401T113000
DTSTAMP:20260420T163937
CREATED:20220224T170412Z
LAST-MODIFIED:20220224T170412Z
UID:10004113-1585735200-1585740600@vnahealth.com
SUMMARY:Step by Step - Heart Health
DESCRIPTION:Learn simple lifestyle changes that can help show your heart some love. Do it for you\, do it for your family!
URL:https://vnahealth.com/event/step-by-step-heart-health/2020-04-01/
LOCATION:Aurora Healthy Lifestyle Center & Kitchen\, 2nd Floor\, 400 N. Highland Ave.\, Aurora\, IL\, 60506\, United States
CATEGORIES:Heart Health
ATTACH;FMTTYPE=image/png:https://vnahealth.com/wp-content/uploads/2022/02/heart-health-146x146-1.png
END:VEVENT
BEGIN:VEVENT
DTSTART;TZID=UTC:20200325T100000
DTEND;TZID=UTC:20200325T113000
DTSTAMP:20260420T163937
CREATED:20220224T170412Z
LAST-MODIFIED:20220224T170412Z
UID:10004112-1585130400-1585135800@vnahealth.com
SUMMARY:Step by Step - Heart Health
DESCRIPTION:Learn simple lifestyle changes that can help show your heart some love. Do it for you\, do it for your family!
URL:https://vnahealth.com/event/step-by-step-heart-health/2020-03-25/
LOCATION:Aurora Healthy Lifestyle Center & Kitchen\, 2nd Floor\, 400 N. Highland Ave.\, Aurora\, IL\, 60506\, United States
CATEGORIES:Heart Health
ATTACH;FMTTYPE=image/png:https://vnahealth.com/wp-content/uploads/2022/02/heart-health-146x146-1.png
END:VEVENT
BEGIN:VEVENT
DTSTART;TZID=UTC:20200318T100000
DTEND;TZID=UTC:20200318T113000
DTSTAMP:20260420T163937
CREATED:20220224T170412Z
LAST-MODIFIED:20220224T170412Z
UID:10004111-1584525600-1584531000@vnahealth.com
SUMMARY:Step by Step - Heart Health
DESCRIPTION:Learn simple lifestyle changes that can help show your heart some love. Do it for you\, do it for your family!
URL:https://vnahealth.com/event/step-by-step-heart-health/2020-03-18/
LOCATION:Aurora Healthy Lifestyle Center & Kitchen\, 2nd Floor\, 400 N. Highland Ave.\, Aurora\, IL\, 60506\, United States
CATEGORIES:Heart Health
ATTACH;FMTTYPE=image/png:https://vnahealth.com/wp-content/uploads/2022/02/heart-health-146x146-1.png
END:VEVENT
BEGIN:VEVENT
DTSTART;TZID=UTC:20200312T140000
DTEND;TZID=UTC:20200312T150000
DTSTAMP:20260420T163937
CREATED:20220224T182036Z
LAST-MODIFIED:20220224T182647Z
UID:10004320-1584021600-1584025200@vnahealth.com
SUMMARY:Step by Step: Healthy Seniors
DESCRIPTION:In collaboration with the Marie Wilkinson Food Pantry\, VNA is offering a weekly cooking class – where seniors discover tips for healthy eating. \nNeed some new ideas for healthy and nutritious meals?\n• Come and learn from an expert!\n• Make new friends and have fun!\n• Cooking demonstrations are open to all seniors and are FREE!\n• Take home a recipe you can use at home!\n• Attend 4 classes and receive a folding shopping cart for use at the Marie Wilkinson Food Pantry! \n \nYou don’t need to be a VNA patient to attend! Classes are FREE of charge and are open to any adult.\nCall (630) 892-4355 ext. 8114 for more information. \nNeed transportation? Call: (630) 723-3VNA for VNA Shuttle
URL:https://vnahealth.com/event/step-by-step-healthy-seniors/2020-03-12/
LOCATION:Aurora Healthy Lifestyle Center & Kitchen\, 2nd Floor\, 400 N. Highland Ave.\, Aurora\, IL\, 60506\, United States
ATTACH;FMTTYPE=image/jpeg:https://vnahealth.com/wp-content/uploads/2022/02/iStock-470055846-1-219x146-1.jpeg
END:VEVENT
BEGIN:VEVENT
DTSTART;TZID=UTC:20200312T120000
DTEND;TZID=UTC:20200312T130000
DTSTAMP:20260420T163937
CREATED:20220224T180540Z
LAST-MODIFIED:20220224T180540Z
UID:10004311-1584014400-1584018000@vnahealth.com
SUMMARY:Friendship Circle
DESCRIPTION:The Friendship Circle provides adults 18 and older including those living with mental health conditions and their families a safe\, stigma free place to make connections with others through a variety of recreational activities. Friendship Circle meets on the second Tuesday of the month from 12:00 to 1:00 p.m. \nThe program is free of charge and meets at VNA\, 400 N. Highland Avenue\, Aurora. For more information\, contact Colleen Balija at NAMI KDK at 630.896.6264 or programs@namikdk.org.
URL:https://vnahealth.com/event/friendship-circle/2020-03-12/
LOCATION:Aurora Healthy Lifestyle Center & Kitchen\, 2nd Floor\, 400 N. Highland Ave.\, Aurora\, IL\, 60506\, United States
CATEGORIES:Support Group
ATTACH;FMTTYPE=image/jpeg:https://vnahealth.com/wp-content/uploads/2022/02/VNA-Community-Resource-Program-Logo-CMYK3-150x146-1.jpeg
END:VEVENT
BEGIN:VEVENT
DTSTART;TZID=UTC:20200311T100000
DTEND;TZID=UTC:20200311T113000
DTSTAMP:20260420T163937
CREATED:20220224T170412Z
LAST-MODIFIED:20220224T170412Z
UID:10004110-1583920800-1583926200@vnahealth.com
SUMMARY:Step by Step - Heart Health
DESCRIPTION:Learn simple lifestyle changes that can help show your heart some love. Do it for you\, do it for your family!
URL:https://vnahealth.com/event/step-by-step-heart-health/2020-03-11/
LOCATION:Aurora Healthy Lifestyle Center & Kitchen\, 2nd Floor\, 400 N. Highland Ave.\, Aurora\, IL\, 60506\, United States
CATEGORIES:Heart Health
ATTACH;FMTTYPE=image/png:https://vnahealth.com/wp-content/uploads/2022/02/heart-health-146x146-1.png
END:VEVENT
BEGIN:VEVENT
DTSTART;TZID=UTC:20200304T100000
DTEND;TZID=UTC:20200304T113000
DTSTAMP:20260420T163937
CREATED:20220224T170412Z
LAST-MODIFIED:20220224T170412Z
UID:10004109-1583316000-1583321400@vnahealth.com
SUMMARY:Step by Step - Heart Health
DESCRIPTION:Learn simple lifestyle changes that can help show your heart some love. Do it for you\, do it for your family!
URL:https://vnahealth.com/event/step-by-step-heart-health/2020-03-04/
LOCATION:Aurora Healthy Lifestyle Center & Kitchen\, 2nd Floor\, 400 N. Highland Ave.\, Aurora\, IL\, 60506\, United States
CATEGORIES:Heart Health
ATTACH;FMTTYPE=image/png:https://vnahealth.com/wp-content/uploads/2022/02/heart-health-146x146-1.png
END:VEVENT
BEGIN:VEVENT
DTSTART;TZID=UTC:20200226T100000
DTEND;TZID=UTC:20200226T113000
DTSTAMP:20260420T163937
CREATED:20220224T170412Z
LAST-MODIFIED:20220224T170412Z
UID:10004108-1582711200-1582716600@vnahealth.com
SUMMARY:Step by Step - Heart Health
DESCRIPTION:Learn simple lifestyle changes that can help show your heart some love. Do it for you\, do it for your family!
URL:https://vnahealth.com/event/step-by-step-heart-health/2020-02-26/
LOCATION:Aurora Healthy Lifestyle Center & Kitchen\, 2nd Floor\, 400 N. Highland Ave.\, Aurora\, IL\, 60506\, United States
CATEGORIES:Heart Health
ATTACH;FMTTYPE=image/png:https://vnahealth.com/wp-content/uploads/2022/02/heart-health-146x146-1.png
END:VEVENT
BEGIN:VEVENT
DTSTART;TZID=UTC:20200219T100000
DTEND;TZID=UTC:20200219T113000
DTSTAMP:20260420T163937
CREATED:20220224T170412Z
LAST-MODIFIED:20220224T170412Z
UID:10004107-1582106400-1582111800@vnahealth.com
SUMMARY:Step by Step - Heart Health
DESCRIPTION:Learn simple lifestyle changes that can help show your heart some love. Do it for you\, do it for your family!
URL:https://vnahealth.com/event/step-by-step-heart-health/2020-02-19/
LOCATION:Aurora Healthy Lifestyle Center & Kitchen\, 2nd Floor\, 400 N. Highland Ave.\, Aurora\, IL\, 60506\, United States
CATEGORIES:Heart Health
ATTACH;FMTTYPE=image/png:https://vnahealth.com/wp-content/uploads/2022/02/heart-health-146x146-1.png
END:VEVENT
BEGIN:VEVENT
DTSTART;TZID=UTC:20200213T120000
DTEND;TZID=UTC:20200213T130000
DTSTAMP:20260420T163937
CREATED:20220224T180540Z
LAST-MODIFIED:20220224T180540Z
UID:10004310-1581595200-1581598800@vnahealth.com
SUMMARY:Friendship Circle
DESCRIPTION:The Friendship Circle provides adults 18 and older including those living with mental health conditions and their families a safe\, stigma free place to make connections with others through a variety of recreational activities. Friendship Circle meets on the second Tuesday of the month from 12:00 to 1:00 p.m. \nThe program is free of charge and meets at VNA\, 400 N. Highland Avenue\, Aurora. For more information\, contact Colleen Balija at NAMI KDK at 630.896.6264 or programs@namikdk.org.
URL:https://vnahealth.com/event/friendship-circle/2020-02-13/
LOCATION:Aurora Healthy Lifestyle Center & Kitchen\, 2nd Floor\, 400 N. Highland Ave.\, Aurora\, IL\, 60506\, United States
CATEGORIES:Support Group
ATTACH;FMTTYPE=image/jpeg:https://vnahealth.com/wp-content/uploads/2022/02/VNA-Community-Resource-Program-Logo-CMYK3-150x146-1.jpeg
END:VEVENT
BEGIN:VEVENT
DTSTART;TZID=UTC:20200212T100000
DTEND;TZID=UTC:20200212T113000
DTSTAMP:20260420T163937
CREATED:20220224T170412Z
LAST-MODIFIED:20220224T170412Z
UID:10004106-1581501600-1581507000@vnahealth.com
SUMMARY:Step by Step - Heart Health
DESCRIPTION:Learn simple lifestyle changes that can help show your heart some love. Do it for you\, do it for your family!
URL:https://vnahealth.com/event/step-by-step-heart-health/2020-02-12/
LOCATION:Aurora Healthy Lifestyle Center & Kitchen\, 2nd Floor\, 400 N. Highland Ave.\, Aurora\, IL\, 60506\, United States
CATEGORIES:Heart Health
ATTACH;FMTTYPE=image/png:https://vnahealth.com/wp-content/uploads/2022/02/heart-health-146x146-1.png
END:VEVENT
BEGIN:VEVENT
DTSTART;TZID=UTC:20200205T100000
DTEND;TZID=UTC:20200205T113000
DTSTAMP:20260420T163937
CREATED:20220224T170412Z
LAST-MODIFIED:20220224T170412Z
UID:10004105-1580896800-1580902200@vnahealth.com
SUMMARY:Step by Step - Heart Health
DESCRIPTION:Learn simple lifestyle changes that can help show your heart some love. Do it for you\, do it for your family!
URL:https://vnahealth.com/event/step-by-step-heart-health/2020-02-05/
LOCATION:Aurora Healthy Lifestyle Center & Kitchen\, 2nd Floor\, 400 N. Highland Ave.\, Aurora\, IL\, 60506\, United States
CATEGORIES:Heart Health
ATTACH;FMTTYPE=image/png:https://vnahealth.com/wp-content/uploads/2022/02/heart-health-146x146-1.png
END:VEVENT
BEGIN:VEVENT
DTSTART;TZID=UTC:20200129T100000
DTEND;TZID=UTC:20200129T113000
DTSTAMP:20260420T163937
CREATED:20220224T170412Z
LAST-MODIFIED:20220224T170412Z
UID:10004104-1580292000-1580297400@vnahealth.com
SUMMARY:Step by Step - Heart Health
DESCRIPTION:Learn simple lifestyle changes that can help show your heart some love. Do it for you\, do it for your family!
URL:https://vnahealth.com/event/step-by-step-heart-health/2020-01-29/
LOCATION:Aurora Healthy Lifestyle Center & Kitchen\, 2nd Floor\, 400 N. Highland Ave.\, Aurora\, IL\, 60506\, United States
CATEGORIES:Heart Health
ATTACH;FMTTYPE=image/png:https://vnahealth.com/wp-content/uploads/2022/02/heart-health-146x146-1.png
END:VEVENT
BEGIN:VEVENT
DTSTART;TZID=UTC:20200122T100000
DTEND;TZID=UTC:20200122T113000
DTSTAMP:20260420T163937
CREATED:20220224T170412Z
LAST-MODIFIED:20220224T170412Z
UID:10004103-1579687200-1579692600@vnahealth.com
SUMMARY:Step by Step - Heart Health
DESCRIPTION:Learn simple lifestyle changes that can help show your heart some love. Do it for you\, do it for your family!
URL:https://vnahealth.com/event/step-by-step-heart-health/2020-01-22/
LOCATION:Aurora Healthy Lifestyle Center & Kitchen\, 2nd Floor\, 400 N. Highland Ave.\, Aurora\, IL\, 60506\, United States
CATEGORIES:Heart Health
ATTACH;FMTTYPE=image/png:https://vnahealth.com/wp-content/uploads/2022/02/heart-health-146x146-1.png
END:VEVENT
BEGIN:VEVENT
DTSTART;TZID=UTC:20200115T100000
DTEND;TZID=UTC:20200115T113000
DTSTAMP:20260420T163937
CREATED:20220224T170412Z
LAST-MODIFIED:20220224T170412Z
UID:10004102-1579082400-1579087800@vnahealth.com
SUMMARY:Step by Step - Heart Health
DESCRIPTION:Learn simple lifestyle changes that can help show your heart some love. Do it for you\, do it for your family!
URL:https://vnahealth.com/event/step-by-step-heart-health/2020-01-15/
LOCATION:Aurora Healthy Lifestyle Center & Kitchen\, 2nd Floor\, 400 N. Highland Ave.\, Aurora\, IL\, 60506\, United States
CATEGORIES:Heart Health
ATTACH;FMTTYPE=image/png:https://vnahealth.com/wp-content/uploads/2022/02/heart-health-146x146-1.png
END:VEVENT
BEGIN:VEVENT
DTSTART;TZID=UTC:20200109T120000
DTEND;TZID=UTC:20200109T130000
DTSTAMP:20260420T163937
CREATED:20220224T180540Z
LAST-MODIFIED:20220224T180540Z
UID:10004309-1578571200-1578574800@vnahealth.com
SUMMARY:Friendship Circle
DESCRIPTION:The Friendship Circle provides adults 18 and older including those living with mental health conditions and their families a safe\, stigma free place to make connections with others through a variety of recreational activities. Friendship Circle meets on the second Tuesday of the month from 12:00 to 1:00 p.m. \nThe program is free of charge and meets at VNA\, 400 N. Highland Avenue\, Aurora. For more information\, contact Colleen Balija at NAMI KDK at 630.896.6264 or programs@namikdk.org.
URL:https://vnahealth.com/event/friendship-circle/2020-01-09/
LOCATION:Aurora Healthy Lifestyle Center & Kitchen\, 2nd Floor\, 400 N. Highland Ave.\, Aurora\, IL\, 60506\, United States
CATEGORIES:Support Group
ATTACH;FMTTYPE=image/jpeg:https://vnahealth.com/wp-content/uploads/2022/02/VNA-Community-Resource-Program-Logo-CMYK3-150x146-1.jpeg
END:VEVENT
BEGIN:VEVENT
DTSTART;TZID=UTC:20200108T100000
DTEND;TZID=UTC:20200108T113000
DTSTAMP:20260420T163937
CREATED:20220224T170412Z
LAST-MODIFIED:20220224T170412Z
UID:10004101-1578477600-1578483000@vnahealth.com
SUMMARY:Step by Step - Heart Health
DESCRIPTION:Learn simple lifestyle changes that can help show your heart some love. Do it for you\, do it for your family!
URL:https://vnahealth.com/event/step-by-step-heart-health/2020-01-08/
LOCATION:Aurora Healthy Lifestyle Center & Kitchen\, 2nd Floor\, 400 N. Highland Ave.\, Aurora\, IL\, 60506\, United States
CATEGORIES:Heart Health
ATTACH;FMTTYPE=image/png:https://vnahealth.com/wp-content/uploads/2022/02/heart-health-146x146-1.png
END:VEVENT
BEGIN:VEVENT
DTSTART;TZID=UTC:20200101T100000
DTEND;TZID=UTC:20200101T113000
DTSTAMP:20260420T163937
CREATED:20220224T170412Z
LAST-MODIFIED:20220224T170412Z
UID:10004100-1577872800-1577878200@vnahealth.com
SUMMARY:Step by Step - Heart Health
DESCRIPTION:Learn simple lifestyle changes that can help show your heart some love. Do it for you\, do it for your family!
URL:https://vnahealth.com/event/step-by-step-heart-health/2020-01-01/
LOCATION:Aurora Healthy Lifestyle Center & Kitchen\, 2nd Floor\, 400 N. Highland Ave.\, Aurora\, IL\, 60506\, United States
CATEGORIES:Heart Health
ATTACH;FMTTYPE=image/png:https://vnahealth.com/wp-content/uploads/2022/02/heart-health-146x146-1.png
END:VEVENT
BEGIN:VEVENT
DTSTART;TZID=UTC:20191225T100000
DTEND;TZID=UTC:20191225T113000
DTSTAMP:20260420T163937
CREATED:20220224T170412Z
LAST-MODIFIED:20220224T170412Z
UID:10004099-1577268000-1577273400@vnahealth.com
SUMMARY:Step by Step - Heart Health
DESCRIPTION:Learn simple lifestyle changes that can help show your heart some love. Do it for you\, do it for your family!
URL:https://vnahealth.com/event/step-by-step-heart-health/2019-12-25/
LOCATION:Aurora Healthy Lifestyle Center & Kitchen\, 2nd Floor\, 400 N. Highland Ave.\, Aurora\, IL\, 60506\, United States
CATEGORIES:Heart Health
ATTACH;FMTTYPE=image/png:https://vnahealth.com/wp-content/uploads/2022/02/heart-health-146x146-1.png
END:VEVENT
BEGIN:VEVENT
DTSTART;TZID=UTC:20191218T100000
DTEND;TZID=UTC:20191218T113000
DTSTAMP:20260420T163937
CREATED:20220224T170412Z
LAST-MODIFIED:20220224T170412Z
UID:10004098-1576663200-1576668600@vnahealth.com
SUMMARY:Step by Step - Heart Health
DESCRIPTION:Learn simple lifestyle changes that can help show your heart some love. Do it for you\, do it for your family!
URL:https://vnahealth.com/event/step-by-step-heart-health/2019-12-18/
LOCATION:Aurora Healthy Lifestyle Center & Kitchen\, 2nd Floor\, 400 N. Highland Ave.\, Aurora\, IL\, 60506\, United States
CATEGORIES:Heart Health
ATTACH;FMTTYPE=image/png:https://vnahealth.com/wp-content/uploads/2022/02/heart-health-146x146-1.png
END:VEVENT
BEGIN:VEVENT
DTSTART;TZID=UTC:20191212T120000
DTEND;TZID=UTC:20191212T130000
DTSTAMP:20260420T163937
CREATED:20220224T180540Z
LAST-MODIFIED:20220224T180540Z
UID:10004308-1576152000-1576155600@vnahealth.com
SUMMARY:Friendship Circle
DESCRIPTION:The Friendship Circle provides adults 18 and older including those living with mental health conditions and their families a safe\, stigma free place to make connections with others through a variety of recreational activities. Friendship Circle meets on the second Tuesday of the month from 12:00 to 1:00 p.m. \nThe program is free of charge and meets at VNA\, 400 N. Highland Avenue\, Aurora. For more information\, contact Colleen Balija at NAMI KDK at 630.896.6264 or programs@namikdk.org.
URL:https://vnahealth.com/event/friendship-circle/2019-12-12/
LOCATION:Aurora Healthy Lifestyle Center & Kitchen\, 2nd Floor\, 400 N. Highland Ave.\, Aurora\, IL\, 60506\, United States
CATEGORIES:Support Group
ATTACH;FMTTYPE=image/jpeg:https://vnahealth.com/wp-content/uploads/2022/02/VNA-Community-Resource-Program-Logo-CMYK3-150x146-1.jpeg
END:VEVENT
BEGIN:VEVENT
DTSTART;TZID=UTC:20191211T100000
DTEND;TZID=UTC:20191211T113000
DTSTAMP:20260420T163937
CREATED:20220224T170412Z
LAST-MODIFIED:20220224T170412Z
UID:10004097-1576058400-1576063800@vnahealth.com
SUMMARY:Step by Step - Heart Health
DESCRIPTION:Learn simple lifestyle changes that can help show your heart some love. Do it for you\, do it for your family!
URL:https://vnahealth.com/event/step-by-step-heart-health/2019-12-11/
LOCATION:Aurora Healthy Lifestyle Center & Kitchen\, 2nd Floor\, 400 N. Highland Ave.\, Aurora\, IL\, 60506\, United States
CATEGORIES:Heart Health
ATTACH;FMTTYPE=image/png:https://vnahealth.com/wp-content/uploads/2022/02/heart-health-146x146-1.png
END:VEVENT
BEGIN:VEVENT
DTSTART;TZID=UTC:20191204T100000
DTEND;TZID=UTC:20191204T113000
DTSTAMP:20260420T163937
CREATED:20220224T170412Z
LAST-MODIFIED:20220224T170412Z
UID:10004096-1575453600-1575459000@vnahealth.com
SUMMARY:Step by Step - Heart Health
DESCRIPTION:Learn simple lifestyle changes that can help show your heart some love. Do it for you\, do it for your family!
URL:https://vnahealth.com/event/step-by-step-heart-health/2019-12-04/
LOCATION:Aurora Healthy Lifestyle Center & Kitchen\, 2nd Floor\, 400 N. Highland Ave.\, Aurora\, IL\, 60506\, United States
CATEGORIES:Heart Health
ATTACH;FMTTYPE=image/png:https://vnahealth.com/wp-content/uploads/2022/02/heart-health-146x146-1.png
END:VEVENT
BEGIN:VEVENT
DTSTART;TZID=UTC:20191127T100000
DTEND;TZID=UTC:20191127T113000
DTSTAMP:20260420T163937
CREATED:20220224T170412Z
LAST-MODIFIED:20220224T170412Z
UID:10004095-1574848800-1574854200@vnahealth.com
SUMMARY:Step by Step - Heart Health
DESCRIPTION:Learn simple lifestyle changes that can help show your heart some love. Do it for you\, do it for your family!
URL:https://vnahealth.com/event/step-by-step-heart-health/2019-11-27/
LOCATION:Aurora Healthy Lifestyle Center & Kitchen\, 2nd Floor\, 400 N. Highland Ave.\, Aurora\, IL\, 60506\, United States
CATEGORIES:Heart Health
ATTACH;FMTTYPE=image/png:https://vnahealth.com/wp-content/uploads/2022/02/heart-health-146x146-1.png
END:VEVENT
BEGIN:VEVENT
DTSTART;TZID=UTC:20191120T100000
DTEND;TZID=UTC:20191120T113000
DTSTAMP:20260420T163937
CREATED:20220224T170412Z
LAST-MODIFIED:20220224T170412Z
UID:10004094-1574244000-1574249400@vnahealth.com
SUMMARY:Step by Step - Heart Health
DESCRIPTION:Learn simple lifestyle changes that can help show your heart some love. Do it for you\, do it for your family!
URL:https://vnahealth.com/event/step-by-step-heart-health/2019-11-20/
LOCATION:Aurora Healthy Lifestyle Center & Kitchen\, 2nd Floor\, 400 N. Highland Ave.\, Aurora\, IL\, 60506\, United States
CATEGORIES:Heart Health
ATTACH;FMTTYPE=image/png:https://vnahealth.com/wp-content/uploads/2022/02/heart-health-146x146-1.png
END:VEVENT
BEGIN:VEVENT
DTSTART;TZID=UTC:20191114T120000
DTEND;TZID=UTC:20191114T130000
DTSTAMP:20260420T163937
CREATED:20220224T180540Z
LAST-MODIFIED:20220224T180540Z
UID:10004307-1573732800-1573736400@vnahealth.com
SUMMARY:Friendship Circle
DESCRIPTION:The Friendship Circle provides adults 18 and older including those living with mental health conditions and their families a safe\, stigma free place to make connections with others through a variety of recreational activities. Friendship Circle meets on the second Tuesday of the month from 12:00 to 1:00 p.m. \nThe program is free of charge and meets at VNA\, 400 N. Highland Avenue\, Aurora. For more information\, contact Colleen Balija at NAMI KDK at 630.896.6264 or programs@namikdk.org.
URL:https://vnahealth.com/event/friendship-circle/2019-11-14/
LOCATION:Aurora Healthy Lifestyle Center & Kitchen\, 2nd Floor\, 400 N. Highland Ave.\, Aurora\, IL\, 60506\, United States
CATEGORIES:Support Group
ATTACH;FMTTYPE=image/jpeg:https://vnahealth.com/wp-content/uploads/2022/02/VNA-Community-Resource-Program-Logo-CMYK3-150x146-1.jpeg
END:VEVENT
BEGIN:VEVENT
DTSTART;TZID=UTC:20191113T100000
DTEND;TZID=UTC:20191113T113000
DTSTAMP:20260420T163937
CREATED:20220224T170412Z
LAST-MODIFIED:20220224T170412Z
UID:10004093-1573639200-1573644600@vnahealth.com
SUMMARY:Step by Step - Heart Health
DESCRIPTION:Learn simple lifestyle changes that can help show your heart some love. Do it for you\, do it for your family!
URL:https://vnahealth.com/event/step-by-step-heart-health/2019-11-13/
LOCATION:Aurora Healthy Lifestyle Center & Kitchen\, 2nd Floor\, 400 N. Highland Ave.\, Aurora\, IL\, 60506\, United States
CATEGORIES:Heart Health
ATTACH;FMTTYPE=image/png:https://vnahealth.com/wp-content/uploads/2022/02/heart-health-146x146-1.png
END:VEVENT
END:VCALENDAR