BEGIN:VCALENDAR
VERSION:2.0
PRODID:-//VNA Health Care - ECPv6.15.17.1//NONSGML v1.0//EN
CALSCALE:GREGORIAN
METHOD:PUBLISH
X-WR-CALNAME:VNA Health Care
X-ORIGINAL-URL:https://vnahealth.com
X-WR-CALDESC:Events for VNA Health Care
REFRESH-INTERVAL;VALUE=DURATION:PT1H
X-Robots-Tag:noindex
X-PUBLISHED-TTL:PT1H
BEGIN:VTIMEZONE
TZID:UTC
BEGIN:STANDARD
TZOFFSETFROM:+0000
TZOFFSETTO:+0000
TZNAME:UTC
DTSTART:20180101T000000
END:STANDARD
END:VTIMEZONE
BEGIN:VEVENT
DTSTART;TZID=UTC:20190911T100000
DTEND;TZID=UTC:20190911T113000
DTSTAMP:20260421T001611
CREATED:20220224T170412Z
LAST-MODIFIED:20220224T170412Z
UID:10004084-1568196000-1568201400@vnahealth.com
SUMMARY:Step by Step - Heart Health
DESCRIPTION:Learn simple lifestyle changes that can help show your heart some love. Do it for you\, do it for your family!
URL:https://vnahealth.com/event/step-by-step-heart-health/2019-09-11/
LOCATION:Aurora Healthy Lifestyle Center & Kitchen\, 2nd Floor\, 400 N. Highland Ave.\, Aurora\, IL\, 60506\, United States
CATEGORIES:Heart Health
ATTACH;FMTTYPE=image/png:https://vnahealth.com/wp-content/uploads/2022/02/heart-health-146x146-1.png
END:VEVENT
BEGIN:VEVENT
DTSTART;TZID=UTC:20190904T100000
DTEND;TZID=UTC:20190904T113000
DTSTAMP:20260421T001611
CREATED:20220224T170412Z
LAST-MODIFIED:20220224T170412Z
UID:10004083-1567591200-1567596600@vnahealth.com
SUMMARY:Step by Step - Heart Health
DESCRIPTION:Learn simple lifestyle changes that can help show your heart some love. Do it for you\, do it for your family!
URL:https://vnahealth.com/event/step-by-step-heart-health/2019-09-04/
LOCATION:Aurora Healthy Lifestyle Center & Kitchen\, 2nd Floor\, 400 N. Highland Ave.\, Aurora\, IL\, 60506\, United States
CATEGORIES:Heart Health
ATTACH;FMTTYPE=image/png:https://vnahealth.com/wp-content/uploads/2022/02/heart-health-146x146-1.png
END:VEVENT
BEGIN:VEVENT
DTSTART;TZID=UTC:20190828T100000
DTEND;TZID=UTC:20190828T113000
DTSTAMP:20260421T001611
CREATED:20220224T170412Z
LAST-MODIFIED:20220224T170412Z
UID:10004082-1566986400-1566991800@vnahealth.com
SUMMARY:Step by Step - Heart Health
DESCRIPTION:Learn simple lifestyle changes that can help show your heart some love. Do it for you\, do it for your family!
URL:https://vnahealth.com/event/step-by-step-heart-health/2019-08-28/
LOCATION:Aurora Healthy Lifestyle Center & Kitchen\, 2nd Floor\, 400 N. Highland Ave.\, Aurora\, IL\, 60506\, United States
CATEGORIES:Heart Health
ATTACH;FMTTYPE=image/png:https://vnahealth.com/wp-content/uploads/2022/02/heart-health-146x146-1.png
END:VEVENT
BEGIN:VEVENT
DTSTART;TZID=UTC:20190821T100000
DTEND;TZID=UTC:20190821T113000
DTSTAMP:20260421T001611
CREATED:20220224T170412Z
LAST-MODIFIED:20220224T170412Z
UID:10004081-1566381600-1566387000@vnahealth.com
SUMMARY:Step by Step - Heart Health
DESCRIPTION:Learn simple lifestyle changes that can help show your heart some love. Do it for you\, do it for your family!
URL:https://vnahealth.com/event/step-by-step-heart-health/2019-08-21/
LOCATION:Aurora Healthy Lifestyle Center & Kitchen\, 2nd Floor\, 400 N. Highland Ave.\, Aurora\, IL\, 60506\, United States
CATEGORIES:Heart Health
ATTACH;FMTTYPE=image/png:https://vnahealth.com/wp-content/uploads/2022/02/heart-health-146x146-1.png
END:VEVENT
BEGIN:VEVENT
DTSTART;TZID=UTC:20190814T100000
DTEND;TZID=UTC:20190814T113000
DTSTAMP:20260421T001611
CREATED:20220224T170412Z
LAST-MODIFIED:20220224T170412Z
UID:10004080-1565776800-1565782200@vnahealth.com
SUMMARY:Step by Step - Heart Health
DESCRIPTION:Learn simple lifestyle changes that can help show your heart some love. Do it for you\, do it for your family!
URL:https://vnahealth.com/event/step-by-step-heart-health/2019-08-14/
LOCATION:Aurora Healthy Lifestyle Center & Kitchen\, 2nd Floor\, 400 N. Highland Ave.\, Aurora\, IL\, 60506\, United States
CATEGORIES:Heart Health
ATTACH;FMTTYPE=image/png:https://vnahealth.com/wp-content/uploads/2022/02/heart-health-146x146-1.png
END:VEVENT
BEGIN:VEVENT
DTSTART;TZID=UTC:20190808T120000
DTEND;TZID=UTC:20190808T130000
DTSTAMP:20260421T001611
CREATED:20220224T180540Z
LAST-MODIFIED:20220224T180540Z
UID:10004304-1565265600-1565269200@vnahealth.com
SUMMARY:Friendship Circle
DESCRIPTION:The Friendship Circle provides adults 18 and older including those living with mental health conditions and their families a safe\, stigma free place to make connections with others through a variety of recreational activities. Friendship Circle meets on the second Tuesday of the month from 12:00 to 1:00 p.m. \nThe program is free of charge and meets at VNA\, 400 N. Highland Avenue\, Aurora. For more information\, contact Colleen Balija at NAMI KDK at 630.896.6264 or programs@namikdk.org.
URL:https://vnahealth.com/event/friendship-circle/2019-08-08/
LOCATION:Aurora Healthy Lifestyle Center & Kitchen\, 2nd Floor\, 400 N. Highland Ave.\, Aurora\, IL\, 60506\, United States
CATEGORIES:Support Group
ATTACH;FMTTYPE=image/jpeg:https://vnahealth.com/wp-content/uploads/2022/02/VNA-Community-Resource-Program-Logo-CMYK3-150x146-1.jpeg
END:VEVENT
BEGIN:VEVENT
DTSTART;TZID=UTC:20190807T100000
DTEND;TZID=UTC:20190807T113000
DTSTAMP:20260421T001611
CREATED:20220224T170412Z
LAST-MODIFIED:20220224T170412Z
UID:10004079-1565172000-1565177400@vnahealth.com
SUMMARY:Step by Step - Heart Health
DESCRIPTION:Learn simple lifestyle changes that can help show your heart some love. Do it for you\, do it for your family!
URL:https://vnahealth.com/event/step-by-step-heart-health/2019-08-07/
LOCATION:Aurora Healthy Lifestyle Center & Kitchen\, 2nd Floor\, 400 N. Highland Ave.\, Aurora\, IL\, 60506\, United States
CATEGORIES:Heart Health
ATTACH;FMTTYPE=image/png:https://vnahealth.com/wp-content/uploads/2022/02/heart-health-146x146-1.png
END:VEVENT
BEGIN:VEVENT
DTSTART;TZID=UTC:20190731T100000
DTEND;TZID=UTC:20190731T113000
DTSTAMP:20260421T001611
CREATED:20220224T170412Z
LAST-MODIFIED:20220224T170412Z
UID:10004078-1564567200-1564572600@vnahealth.com
SUMMARY:Step by Step - Heart Health
DESCRIPTION:Learn simple lifestyle changes that can help show your heart some love. Do it for you\, do it for your family!
URL:https://vnahealth.com/event/step-by-step-heart-health/2019-07-31/
LOCATION:Aurora Healthy Lifestyle Center & Kitchen\, 2nd Floor\, 400 N. Highland Ave.\, Aurora\, IL\, 60506\, United States
CATEGORIES:Heart Health
ATTACH;FMTTYPE=image/png:https://vnahealth.com/wp-content/uploads/2022/02/heart-health-146x146-1.png
END:VEVENT
BEGIN:VEVENT
DTSTART;TZID=UTC:20190724T100000
DTEND;TZID=UTC:20190724T113000
DTSTAMP:20260421T001611
CREATED:20220224T170412Z
LAST-MODIFIED:20220224T170412Z
UID:10004077-1563962400-1563967800@vnahealth.com
SUMMARY:Step by Step - Heart Health
DESCRIPTION:Learn simple lifestyle changes that can help show your heart some love. Do it for you\, do it for your family!
URL:https://vnahealth.com/event/step-by-step-heart-health/2019-07-24/
LOCATION:Aurora Healthy Lifestyle Center & Kitchen\, 2nd Floor\, 400 N. Highland Ave.\, Aurora\, IL\, 60506\, United States
CATEGORIES:Heart Health
ATTACH;FMTTYPE=image/png:https://vnahealth.com/wp-content/uploads/2022/02/heart-health-146x146-1.png
END:VEVENT
BEGIN:VEVENT
DTSTART;TZID=UTC:20190717T100000
DTEND;TZID=UTC:20190717T113000
DTSTAMP:20260421T001611
CREATED:20220224T170412Z
LAST-MODIFIED:20220224T170412Z
UID:10004076-1563357600-1563363000@vnahealth.com
SUMMARY:Step by Step - Heart Health
DESCRIPTION:Learn simple lifestyle changes that can help show your heart some love. Do it for you\, do it for your family!
URL:https://vnahealth.com/event/step-by-step-heart-health/2019-07-17/
LOCATION:Aurora Healthy Lifestyle Center & Kitchen\, 2nd Floor\, 400 N. Highland Ave.\, Aurora\, IL\, 60506\, United States
CATEGORIES:Heart Health
ATTACH;FMTTYPE=image/png:https://vnahealth.com/wp-content/uploads/2022/02/heart-health-146x146-1.png
END:VEVENT
BEGIN:VEVENT
DTSTART;TZID=UTC:20190711T120000
DTEND;TZID=UTC:20190711T130000
DTSTAMP:20260421T001611
CREATED:20220224T180540Z
LAST-MODIFIED:20220224T180540Z
UID:10004303-1562846400-1562850000@vnahealth.com
SUMMARY:Friendship Circle
DESCRIPTION:The Friendship Circle provides adults 18 and older including those living with mental health conditions and their families a safe\, stigma free place to make connections with others through a variety of recreational activities. Friendship Circle meets on the second Tuesday of the month from 12:00 to 1:00 p.m. \nThe program is free of charge and meets at VNA\, 400 N. Highland Avenue\, Aurora. For more information\, contact Colleen Balija at NAMI KDK at 630.896.6264 or programs@namikdk.org.
URL:https://vnahealth.com/event/friendship-circle/2019-07-11/
LOCATION:Aurora Healthy Lifestyle Center & Kitchen\, 2nd Floor\, 400 N. Highland Ave.\, Aurora\, IL\, 60506\, United States
CATEGORIES:Support Group
ATTACH;FMTTYPE=image/jpeg:https://vnahealth.com/wp-content/uploads/2022/02/VNA-Community-Resource-Program-Logo-CMYK3-150x146-1.jpeg
END:VEVENT
BEGIN:VEVENT
DTSTART;TZID=UTC:20190710T100000
DTEND;TZID=UTC:20190710T113000
DTSTAMP:20260421T001611
CREATED:20220224T170412Z
LAST-MODIFIED:20220224T170412Z
UID:10004075-1562752800-1562758200@vnahealth.com
SUMMARY:Step by Step - Heart Health
DESCRIPTION:Learn simple lifestyle changes that can help show your heart some love. Do it for you\, do it for your family!
URL:https://vnahealth.com/event/step-by-step-heart-health/2019-07-10/
LOCATION:Aurora Healthy Lifestyle Center & Kitchen\, 2nd Floor\, 400 N. Highland Ave.\, Aurora\, IL\, 60506\, United States
CATEGORIES:Heart Health
ATTACH;FMTTYPE=image/png:https://vnahealth.com/wp-content/uploads/2022/02/heart-health-146x146-1.png
END:VEVENT
BEGIN:VEVENT
DTSTART;TZID=UTC:20190613T120000
DTEND;TZID=UTC:20190613T130000
DTSTAMP:20260421T001611
CREATED:20220224T180540Z
LAST-MODIFIED:20220224T180540Z
UID:10004302-1560427200-1560430800@vnahealth.com
SUMMARY:Friendship Circle
DESCRIPTION:The Friendship Circle provides adults 18 and older including those living with mental health conditions and their families a safe\, stigma free place to make connections with others through a variety of recreational activities. Friendship Circle meets on the second Tuesday of the month from 12:00 to 1:00 p.m. \nThe program is free of charge and meets at VNA\, 400 N. Highland Avenue\, Aurora. For more information\, contact Colleen Balija at NAMI KDK at 630.896.6264 or programs@namikdk.org.
URL:https://vnahealth.com/event/friendship-circle/2019-06-13/
LOCATION:Aurora Healthy Lifestyle Center & Kitchen\, 2nd Floor\, 400 N. Highland Ave.\, Aurora\, IL\, 60506\, United States
CATEGORIES:Support Group
ATTACH;FMTTYPE=image/jpeg:https://vnahealth.com/wp-content/uploads/2022/02/VNA-Community-Resource-Program-Logo-CMYK3-150x146-1.jpeg
END:VEVENT
BEGIN:VEVENT
DTSTART;TZID=UTC:20190514T120000
DTEND;TZID=UTC:20190514T130000
DTSTAMP:20260421T001611
CREATED:20220224T180540Z
LAST-MODIFIED:20220224T180540Z
UID:10004301-1557835200-1557838800@vnahealth.com
SUMMARY:Friendship Circle
DESCRIPTION:The Friendship Circle provides adults 18 and older including those living with mental health conditions and their families a safe\, stigma free place to make connections with others through a variety of recreational activities. Friendship Circle meets on the second Tuesday of the month from 12:00 to 1:00 p.m. \nThe program is free of charge and meets at VNA\, 400 N. Highland Avenue\, Aurora. For more information\, contact Colleen Balija at NAMI KDK at 630.896.6264 or programs@namikdk.org.
URL:https://vnahealth.com/event/friendship-circle/2019-05-14/
LOCATION:Aurora Healthy Lifestyle Center & Kitchen\, 2nd Floor\, 400 N. Highland Ave.\, Aurora\, IL\, 60506\, United States
CATEGORIES:Support Group
ATTACH;FMTTYPE=image/jpeg:https://vnahealth.com/wp-content/uploads/2022/02/VNA-Community-Resource-Program-Logo-CMYK3-150x146-1.jpeg
END:VEVENT
BEGIN:VEVENT
DTSTART;TZID=UTC:20190206T093000
DTEND;TZID=UTC:20190206T110000
DTSTAMP:20260421T001611
CREATED:20220224T190744Z
LAST-MODIFIED:20221014T123944Z
UID:10004349-1549445400-1549450800@vnahealth.com
SUMMARY:Step by Step: Heart Health - Aurora Highland
DESCRIPTION:Learn simple lifestyle changes that can help show your heart some love. Do it for you\, do it for your family!
URL:https://vnahealth.com/event/step-by-step-heart-health-aurora-highland/
LOCATION:Aurora Healthy Lifestyle Center & Kitchen\, 2nd Floor\, 400 N. Highland Ave.\, Aurora\, IL\, 60506\, United States
CATEGORIES:Heart Health
ATTACH;FMTTYPE=image/png:https://vnahealth.com/wp-content/uploads/2022/02/heart-health-146x146-1.png
END:VEVENT
END:VCALENDAR