BEGIN:VCALENDAR
VERSION:2.0
PRODID:-//VNA Health Care - ECPv6.15.17.1//NONSGML v1.0//EN
CALSCALE:GREGORIAN
METHOD:PUBLISH
X-WR-CALNAME:VNA Health Care
X-ORIGINAL-URL:https://vnahealth.com
X-WR-CALDESC:Events for VNA Health Care
REFRESH-INTERVAL;VALUE=DURATION:PT1H
X-Robots-Tag:noindex
X-PUBLISHED-TTL:PT1H
BEGIN:VTIMEZONE
TZID:America/Chicago
BEGIN:DAYLIGHT
TZOFFSETFROM:-0600
TZOFFSETTO:-0500
TZNAME:CDT
DTSTART:20220313T080000
END:DAYLIGHT
BEGIN:STANDARD
TZOFFSETFROM:-0500
TZOFFSETTO:-0600
TZNAME:CST
DTSTART:20221106T070000
END:STANDARD
BEGIN:DAYLIGHT
TZOFFSETFROM:-0600
TZOFFSETTO:-0500
TZNAME:CDT
DTSTART:20230312T080000
END:DAYLIGHT
BEGIN:STANDARD
TZOFFSETFROM:-0500
TZOFFSETTO:-0600
TZNAME:CST
DTSTART:20231105T070000
END:STANDARD
BEGIN:DAYLIGHT
TZOFFSETFROM:-0600
TZOFFSETTO:-0500
TZNAME:CDT
DTSTART:20240310T080000
END:DAYLIGHT
BEGIN:STANDARD
TZOFFSETFROM:-0500
TZOFFSETTO:-0600
TZNAME:CST
DTSTART:20241103T070000
END:STANDARD
BEGIN:DAYLIGHT
TZOFFSETFROM:-0600
TZOFFSETTO:-0500
TZNAME:CDT
DTSTART:20250309T080000
END:DAYLIGHT
BEGIN:STANDARD
TZOFFSETFROM:-0500
TZOFFSETTO:-0600
TZNAME:CST
DTSTART:20251102T070000
END:STANDARD
BEGIN:DAYLIGHT
TZOFFSETFROM:-0600
TZOFFSETTO:-0500
TZNAME:CDT
DTSTART:20260308T080000
END:DAYLIGHT
BEGIN:STANDARD
TZOFFSETFROM:-0500
TZOFFSETTO:-0600
TZNAME:CST
DTSTART:20261101T070000
END:STANDARD
END:VTIMEZONE
BEGIN:VTIMEZONE
TZID:UTC
BEGIN:STANDARD
TZOFFSETFROM:+0000
TZOFFSETTO:+0000
TZNAME:UTC
DTSTART:20160101T000000
END:STANDARD
END:VTIMEZONE
BEGIN:VEVENT
DTSTART;TZID=America/Chicago:20251205T140000
DTEND;TZID=America/Chicago:20251205T150000
DTSTAMP:20260420T051119
CREATED:20250923T152455Z
LAST-MODIFIED:20251022T164544Z
UID:10013005-1764943200-1764946800@vnahealth.com
SUMMARY:Welcoming Center Workshops – Romeoville
DESCRIPTION:Benefits Assistance at VNA: Helping You Get Covered\nNavigating health coverage can be overwhelming—but VNA Health Care is here to help. This presentation will guide you through available benefits programs like Moms & Babies\, All Kids\, MPE (Medicaid Presumptive Eligibility)\, the Health Insurance Marketplace\, and other insurance options you may qualify for. Learn how our team can assist you in applying\, understanding your coverage\, and getting the care you and your family need. \nCLASSES TAUGHT IN SPANISH 
URL:https://vnahealth.com/event/welcoming-center-workshops-highland-4/
LOCATION:Romeoville\, 160 N. Independence Blvd\, Romeoville
CATEGORIES:Clases en Español
ATTACH;FMTTYPE=image/png:https://vnahealth.com/wp-content/uploads/2025/09/Welcoming-Centers-ENG-6.png
END:VEVENT
BEGIN:VEVENT
DTSTART;TZID=America/Chicago:20250403T100000
DTEND;TZID=America/Chicago:20250403T110000
DTSTAMP:20260420T051119
CREATED:20241119T154439Z
LAST-MODIFIED:20241119T154439Z
UID:10010558-1743674400-1743678000@vnahealth.com
SUMMARY:Welcoming Center Workshops – Romeoville
DESCRIPTION:Topic: How to Establish Credit & What You Need to Know about Credit Cards\, Scores & Reports \nWorkshops are taught in Spanish \nTeams meeting link is coming soon! \nPresenters: Claudia Lopez & Kim Diaz \n160 N. Independence Blvd. (Rt. 53) Romeoville\, IL \n10 a.m.-11 a.m.
URL:https://vnahealth.com/event/welcoming-center-workshops-romeoville-5/
LOCATION:Romeoville\, 160 N. Independence Blvd\, Romeoville
CATEGORIES:Clases de Bienestar Familia,Clases en Español
ATTACH;FMTTYPE=image/png:https://vnahealth.com/wp-content/uploads/2024/11/Welcoming-Centers-ENG-4.png
END:VEVENT
BEGIN:VEVENT
DTSTART;TZID=America/Chicago:20250306T100000
DTEND;TZID=America/Chicago:20250306T110000
DTSTAMP:20260420T051119
CREATED:20241119T153050Z
LAST-MODIFIED:20241119T153346Z
UID:10010557-1741255200-1741258800@vnahealth.com
SUMMARY:Welcoming Center Workshops – Romeoville
DESCRIPTION:Topic: Step by Step – Debt Management – Understanding the Consequences\, How to Manage Debt\, How to Get out of Debt \nWorkshops are taught in Spanish \nTeams meeting link is coming soon! \nIntro: Kim Diaz – Workshop FEC \n160 N. Independence Blvd. (Rt. 53) Romeoville\, IL \n10 a.m.-11 a.m.
URL:https://vnahealth.com/event/welcoming-center-workshops-romeoville-4/
LOCATION:Romeoville\, 160 N. Independence Blvd\, Romeoville
CATEGORIES:Clases de Bienestar Familia,Clases en Español
ATTACH;FMTTYPE=image/png:https://vnahealth.com/wp-content/uploads/2024/11/Welcoming-Centers-ENG-4.png
END:VEVENT
BEGIN:VEVENT
DTSTART;TZID=America/Chicago:20250206T100000
DTEND;TZID=America/Chicago:20250206T110000
DTSTAMP:20260420T051119
CREATED:20241119T152654Z
LAST-MODIFIED:20241119T152654Z
UID:10010556-1738836000-1738839600@vnahealth.com
SUMMARY:Welcoming Center Workshops – Romeoville
DESCRIPTION:Topic: Banking Basics – Opening an Account\, Budgeting \nWorkshops are taught in Spanish \nTeams meeting link is coming soon! \nIntro: Kim Diaz – Workshop FEC \n160 N. Independence Blvd. (Rt. 53) Romeoville\, IL \n10 a.m.-11 a.m.
URL:https://vnahealth.com/event/welcoming-center-workshops-romeoville-3/
LOCATION:Romeoville\, 160 N. Independence Blvd\, Romeoville
CATEGORIES:Clases de Bienestar Familia,Clases en Español
ATTACH;FMTTYPE=image/png:https://vnahealth.com/wp-content/uploads/2024/11/Welcoming-Centers-ENG-4.png
END:VEVENT
BEGIN:VEVENT
DTSTART;TZID=America/Chicago:20250102T100000
DTEND;TZID=America/Chicago:20250102T110000
DTSTAMP:20260420T051119
CREATED:20241119T151637Z
LAST-MODIFIED:20241119T151637Z
UID:10010555-1735812000-1735815600@vnahealth.com
SUMMARY:Welcoming Center Workshops – Romeoville
DESCRIPTION:Topic: Step by Step – Step by Step – New Year Check List for Family Wellness \nWorkshops are taught in Spanish \nTeams meeting link is coming soon! \nPresenters: Workshop Elisa Lara & Daniela Limon \n160 N. Independence Blvd. (Rt. 53) Romeoville\, IL \n10 a.m.-11 a.m.
URL:https://vnahealth.com/event/welcoming-center-workshops-romeoville-2/
LOCATION:Romeoville\, 160 N. Independence Blvd\, Romeoville
CATEGORIES:Clases de Bienestar Familia,Clases en Español
ATTACH;FMTTYPE=image/png:https://vnahealth.com/wp-content/uploads/2024/11/Welcoming-Centers-ENG-4.png
END:VEVENT
BEGIN:VEVENT
DTSTART;TZID=America/Chicago:20241205T100000
DTEND;TZID=America/Chicago:20241205T110000
DTSTAMP:20260420T051119
CREATED:20241119T150940Z
LAST-MODIFIED:20241119T151225Z
UID:10010554-1733392800-1733396400@vnahealth.com
SUMMARY:Welcoming Center Workshops – Romeoville
DESCRIPTION:Topic: Step by Step – Welcome to the Neighborhood! VNA & Community Resources \nWorkshops are taught in Spanish \nTeams meeting link is coming soon! \nPresenters: Claudia Lopez & Kim Diaz \n160 N. Independence Blvd. (Rt. 53) Romeoville\, IL \n10 a.m.-11 a.m.
URL:https://vnahealth.com/event/welcoming-center-workshops-romeoville/
LOCATION:Romeoville\, 160 N. Independence Blvd\, Romeoville
CATEGORIES:Clases de Bienestar Familia,Clases en Español
ATTACH;FMTTYPE=image/png:https://vnahealth.com/wp-content/uploads/2024/11/Welcoming-Centers-ENG-4.png
END:VEVENT
BEGIN:VEVENT
DTSTART;TZID=America/Chicago:20230525T150000
DTEND;TZID=America/Chicago:20230525T163000
DTSTAMP:20260420T051119
CREATED:20230425T152048Z
LAST-MODIFIED:20230425T152049Z
UID:10005297-1685026800-1685032200@vnahealth.com
SUMMARY:STEP BY STEP: WELLNESS
DESCRIPTION:Free Classes! \nClass #1: Lifestyle medicine and setting nutrition goals\nClass #2: Understanding nutrition and physical activity\nClass #3: Meal planning\nClass #4: Reducing risks\nClass #5: Diabetes monitoring and problem solving\nClass #6: Diabetes medications \nClasses led by the Wellness Team at VNA \nFree wellness classes are offered at: 160 N. Independence Blvd. Romeoville \nVNA patients call (630) 892-4355 to sign up for the series \nNon-VNA patients\, RSVP to wellness@vnahealth.com Events and classes are listed at vnahealth.com/calendar
URL:https://vnahealth.com/event/step-by-step-wellness-3/2023-05-25/
LOCATION:Romeoville\, 160 N. Independence Blvd\, Romeoville
CATEGORIES:Diabetes,Diabetes Management Level 2,Pre-Diabetes Management,Step by Step: Wellness
ATTACH;FMTTYPE=image/png:https://vnahealth.com/wp-content/uploads/2023/03/Artboard-1.png
END:VEVENT
BEGIN:VEVENT
DTSTART;TZID=America/Chicago:20230518T150000
DTEND;TZID=America/Chicago:20230518T163000
DTSTAMP:20260420T051119
CREATED:20230425T152048Z
LAST-MODIFIED:20230425T152049Z
UID:10005296-1684422000-1684427400@vnahealth.com
SUMMARY:STEP BY STEP: WELLNESS
DESCRIPTION:Free Classes! \nClass #1: Lifestyle medicine and setting nutrition goals\nClass #2: Understanding nutrition and physical activity\nClass #3: Meal planning\nClass #4: Reducing risks\nClass #5: Diabetes monitoring and problem solving\nClass #6: Diabetes medications \nClasses led by the Wellness Team at VNA \nFree wellness classes are offered at: 160 N. Independence Blvd. Romeoville \nVNA patients call (630) 892-4355 to sign up for the series \nNon-VNA patients\, RSVP to wellness@vnahealth.com Events and classes are listed at vnahealth.com/calendar
URL:https://vnahealth.com/event/step-by-step-wellness-3/2023-05-18/
LOCATION:Romeoville\, 160 N. Independence Blvd\, Romeoville
CATEGORIES:Diabetes,Diabetes Management Level 2,Pre-Diabetes Management,Step by Step: Wellness
ATTACH;FMTTYPE=image/png:https://vnahealth.com/wp-content/uploads/2023/03/Artboard-1.png
END:VEVENT
BEGIN:VEVENT
DTSTART;TZID=America/Chicago:20230511T150000
DTEND;TZID=America/Chicago:20230511T163000
DTSTAMP:20260420T051119
CREATED:20230425T152048Z
LAST-MODIFIED:20230425T152049Z
UID:10005295-1683817200-1683822600@vnahealth.com
SUMMARY:STEP BY STEP: WELLNESS
DESCRIPTION:Free Classes! \nClass #1: Lifestyle medicine and setting nutrition goals\nClass #2: Understanding nutrition and physical activity\nClass #3: Meal planning\nClass #4: Reducing risks\nClass #5: Diabetes monitoring and problem solving\nClass #6: Diabetes medications \nClasses led by the Wellness Team at VNA \nFree wellness classes are offered at: 160 N. Independence Blvd. Romeoville \nVNA patients call (630) 892-4355 to sign up for the series \nNon-VNA patients\, RSVP to wellness@vnahealth.com Events and classes are listed at vnahealth.com/calendar
URL:https://vnahealth.com/event/step-by-step-wellness-3/2023-05-11/
LOCATION:Romeoville\, 160 N. Independence Blvd\, Romeoville
CATEGORIES:Diabetes,Diabetes Management Level 2,Pre-Diabetes Management,Step by Step: Wellness
ATTACH;FMTTYPE=image/png:https://vnahealth.com/wp-content/uploads/2023/03/Artboard-1.png
END:VEVENT
BEGIN:VEVENT
DTSTART;TZID=America/Chicago:20230504T150000
DTEND;TZID=America/Chicago:20230504T163000
DTSTAMP:20260420T051119
CREATED:20230425T152048Z
LAST-MODIFIED:20230425T152049Z
UID:10005294-1683212400-1683217800@vnahealth.com
SUMMARY:STEP BY STEP: WELLNESS
DESCRIPTION:Free Classes! \nClass #1: Lifestyle medicine and setting nutrition goals\nClass #2: Understanding nutrition and physical activity\nClass #3: Meal planning\nClass #4: Reducing risks\nClass #5: Diabetes monitoring and problem solving\nClass #6: Diabetes medications \nClasses led by the Wellness Team at VNA \nFree wellness classes are offered at: 160 N. Independence Blvd. Romeoville \nVNA patients call (630) 892-4355 to sign up for the series \nNon-VNA patients\, RSVP to wellness@vnahealth.com Events and classes are listed at vnahealth.com/calendar
URL:https://vnahealth.com/event/step-by-step-wellness-3/2023-05-04/
LOCATION:Romeoville\, 160 N. Independence Blvd\, Romeoville
CATEGORIES:Diabetes,Diabetes Management Level 2,Pre-Diabetes Management,Step by Step: Wellness
ATTACH;FMTTYPE=image/png:https://vnahealth.com/wp-content/uploads/2023/03/Artboard-1.png
END:VEVENT
BEGIN:VEVENT
DTSTART;TZID=America/Chicago:20230427T150000
DTEND;TZID=America/Chicago:20230427T163000
DTSTAMP:20260420T051119
CREATED:20230425T152048Z
LAST-MODIFIED:20230425T152049Z
UID:10005293-1682607600-1682613000@vnahealth.com
SUMMARY:STEP BY STEP: WELLNESS
DESCRIPTION:Free Classes! \nClass #1: Lifestyle medicine and setting nutrition goals\nClass #2: Understanding nutrition and physical activity\nClass #3: Meal planning\nClass #4: Reducing risks\nClass #5: Diabetes monitoring and problem solving\nClass #6: Diabetes medications \nClasses led by the Wellness Team at VNA \nFree wellness classes are offered at: 160 N. Independence Blvd. Romeoville \nVNA patients call (630) 892-4355 to sign up for the series \nNon-VNA patients\, RSVP to wellness@vnahealth.com Events and classes are listed at vnahealth.com/calendar
URL:https://vnahealth.com/event/step-by-step-wellness-3/2023-04-27/
LOCATION:Romeoville\, 160 N. Independence Blvd\, Romeoville
CATEGORIES:Diabetes,Diabetes Management Level 2,Pre-Diabetes Management,Step by Step: Wellness
ATTACH;FMTTYPE=image/png:https://vnahealth.com/wp-content/uploads/2023/03/Artboard-1.png
END:VEVENT
BEGIN:VEVENT
DTSTART;TZID=America/Chicago:20230420T150000
DTEND;TZID=America/Chicago:20230420T163000
DTSTAMP:20260420T051119
CREATED:20230425T152048Z
LAST-MODIFIED:20230425T152049Z
UID:10005292-1682002800-1682008200@vnahealth.com
SUMMARY:STEP BY STEP: WELLNESS
DESCRIPTION:Free Classes! \nClass #1: Lifestyle medicine and setting nutrition goals\nClass #2: Understanding nutrition and physical activity\nClass #3: Meal planning\nClass #4: Reducing risks\nClass #5: Diabetes monitoring and problem solving\nClass #6: Diabetes medications \nClasses led by the Wellness Team at VNA \nFree wellness classes are offered at: 160 N. Independence Blvd. Romeoville \nVNA patients call (630) 892-4355 to sign up for the series \nNon-VNA patients\, RSVP to wellness@vnahealth.com Events and classes are listed at vnahealth.com/calendar
URL:https://vnahealth.com/event/step-by-step-wellness-3/2023-04-20/
LOCATION:Romeoville\, 160 N. Independence Blvd\, Romeoville
CATEGORIES:Diabetes,Diabetes Management Level 2,Pre-Diabetes Management,Step by Step: Wellness
ATTACH;FMTTYPE=image/png:https://vnahealth.com/wp-content/uploads/2023/03/Artboard-1.png
END:VEVENT
BEGIN:VEVENT
DTSTART;TZID=UTC:20220630T173000
DTEND;TZID=UTC:20220630T183000
DTSTAMP:20260420T051119
CREATED:20220430T024516Z
LAST-MODIFIED:20220527T182544Z
UID:10004560-1656610200-1656613800@vnahealth.com
SUMMARY:Step by Step: Wellness Romeoville
DESCRIPTION:Join us to learn how you can significantly improve your health by making positive lifestyle changes! Classes are FREE and led by a qualified team including a dietitian\, certified diabetes educator\, and nurse practitioner. You will be provided with the knowledge\, resources\, and tools to make lasting health improvements. Highly recommended if you have prediabetes/diabetes! Recommended Materials: glucometer\, blood pressure monitor\, and weight scale. \nIn-person classes are resuming in Romeoville! Anyone is welcome to join whether or not they are a VNA patient. Call (630) 892-4355 x8181 to register. \nParticipants will receive a free box of fruits and vegetables at each weekly class.
URL:https://vnahealth.com/event/step-by-step-wellness-romeoville/2022-06-30/
LOCATION:Romeoville\, 160 N. Independence Blvd\, Romeoville
CATEGORIES:Step by Step: Wellness
ATTACH;FMTTYPE=image/png:https://vnahealth.com/wp-content/uploads/2022/02/Fork-Logo-with-blue-border-Transparent-1.png
END:VEVENT
BEGIN:VEVENT
DTSTART;TZID=UTC:20220623T173000
DTEND;TZID=UTC:20220623T183000
DTSTAMP:20260420T051119
CREATED:20220430T024516Z
LAST-MODIFIED:20220527T182544Z
UID:10004559-1656005400-1656009000@vnahealth.com
SUMMARY:Step by Step: Wellness Romeoville
DESCRIPTION:Join us to learn how you can significantly improve your health by making positive lifestyle changes! Classes are FREE and led by a qualified team including a dietitian\, certified diabetes educator\, and nurse practitioner. You will be provided with the knowledge\, resources\, and tools to make lasting health improvements. Highly recommended if you have prediabetes/diabetes! Recommended Materials: glucometer\, blood pressure monitor\, and weight scale. \nIn-person classes are resuming in Romeoville! Anyone is welcome to join whether or not they are a VNA patient. Call (630) 892-4355 x8181 to register. \nParticipants will receive a free box of fruits and vegetables at each weekly class.
URL:https://vnahealth.com/event/step-by-step-wellness-romeoville/2022-06-23/
LOCATION:Romeoville\, 160 N. Independence Blvd\, Romeoville
CATEGORIES:Step by Step: Wellness
ATTACH;FMTTYPE=image/png:https://vnahealth.com/wp-content/uploads/2022/02/Fork-Logo-with-blue-border-Transparent-1.png
END:VEVENT
BEGIN:VEVENT
DTSTART;TZID=UTC:20220616T173000
DTEND;TZID=UTC:20220616T183000
DTSTAMP:20260420T051119
CREATED:20220430T024516Z
LAST-MODIFIED:20220527T182544Z
UID:10004558-1655400600-1655404200@vnahealth.com
SUMMARY:Step by Step: Wellness Romeoville
DESCRIPTION:Join us to learn how you can significantly improve your health by making positive lifestyle changes! Classes are FREE and led by a qualified team including a dietitian\, certified diabetes educator\, and nurse practitioner. You will be provided with the knowledge\, resources\, and tools to make lasting health improvements. Highly recommended if you have prediabetes/diabetes! Recommended Materials: glucometer\, blood pressure monitor\, and weight scale. \nIn-person classes are resuming in Romeoville! Anyone is welcome to join whether or not they are a VNA patient. Call (630) 892-4355 x8181 to register. \nParticipants will receive a free box of fruits and vegetables at each weekly class.
URL:https://vnahealth.com/event/step-by-step-wellness-romeoville/2022-06-16/
LOCATION:Romeoville\, 160 N. Independence Blvd\, Romeoville
CATEGORIES:Step by Step: Wellness
ATTACH;FMTTYPE=image/png:https://vnahealth.com/wp-content/uploads/2022/02/Fork-Logo-with-blue-border-Transparent-1.png
END:VEVENT
BEGIN:VEVENT
DTSTART;TZID=UTC:20220609T173000
DTEND;TZID=UTC:20220609T183000
DTSTAMP:20260420T051119
CREATED:20220430T024516Z
LAST-MODIFIED:20220527T182544Z
UID:10004557-1654795800-1654799400@vnahealth.com
SUMMARY:Step by Step: Wellness Romeoville
DESCRIPTION:Join us to learn how you can significantly improve your health by making positive lifestyle changes! Classes are FREE and led by a qualified team including a dietitian\, certified diabetes educator\, and nurse practitioner. You will be provided with the knowledge\, resources\, and tools to make lasting health improvements. Highly recommended if you have prediabetes/diabetes! Recommended Materials: glucometer\, blood pressure monitor\, and weight scale. \nIn-person classes are resuming in Romeoville! Anyone is welcome to join whether or not they are a VNA patient. Call (630) 892-4355 x8181 to register. \nParticipants will receive a free box of fruits and vegetables at each weekly class.
URL:https://vnahealth.com/event/step-by-step-wellness-romeoville/2022-06-09/
LOCATION:Romeoville\, 160 N. Independence Blvd\, Romeoville
CATEGORIES:Step by Step: Wellness
ATTACH;FMTTYPE=image/png:https://vnahealth.com/wp-content/uploads/2022/02/Fork-Logo-with-blue-border-Transparent-1.png
END:VEVENT
BEGIN:VEVENT
DTSTART;TZID=UTC:20220602T173000
DTEND;TZID=UTC:20220602T183000
DTSTAMP:20260420T051119
CREATED:20220430T024516Z
LAST-MODIFIED:20220527T182544Z
UID:10004556-1654191000-1654194600@vnahealth.com
SUMMARY:Step by Step: Wellness Romeoville
DESCRIPTION:Join us to learn how you can significantly improve your health by making positive lifestyle changes! Classes are FREE and led by a qualified team including a dietitian\, certified diabetes educator\, and nurse practitioner. You will be provided with the knowledge\, resources\, and tools to make lasting health improvements. Highly recommended if you have prediabetes/diabetes! Recommended Materials: glucometer\, blood pressure monitor\, and weight scale. \nIn-person classes are resuming in Romeoville! Anyone is welcome to join whether or not they are a VNA patient. Call (630) 892-4355 x8181 to register. \nParticipants will receive a free box of fruits and vegetables at each weekly class.
URL:https://vnahealth.com/event/step-by-step-wellness-romeoville/2022-06-02/
LOCATION:Romeoville\, 160 N. Independence Blvd\, Romeoville
CATEGORIES:Step by Step: Wellness
ATTACH;FMTTYPE=image/png:https://vnahealth.com/wp-content/uploads/2022/02/Fork-Logo-with-blue-border-Transparent-1.png
END:VEVENT
BEGIN:VEVENT
DTSTART;TZID=UTC:20220526T173000
DTEND;TZID=UTC:20220526T183000
DTSTAMP:20260420T051119
CREATED:20220430T024516Z
LAST-MODIFIED:20220527T182544Z
UID:10004555-1653586200-1653589800@vnahealth.com
SUMMARY:Step by Step: Wellness Romeoville
DESCRIPTION:Join us to learn how you can significantly improve your health by making positive lifestyle changes! Classes are FREE and led by a qualified team including a dietitian\, certified diabetes educator\, and nurse practitioner. You will be provided with the knowledge\, resources\, and tools to make lasting health improvements. Highly recommended if you have prediabetes/diabetes! Recommended Materials: glucometer\, blood pressure monitor\, and weight scale. \nIn-person classes are resuming in Romeoville! Anyone is welcome to join whether or not they are a VNA patient. Call (630) 892-4355 x8181 to register. \nParticipants will receive a free box of fruits and vegetables at each weekly class.
URL:https://vnahealth.com/event/step-by-step-wellness-romeoville/2022-05-26/
LOCATION:Romeoville\, 160 N. Independence Blvd\, Romeoville
CATEGORIES:Step by Step: Wellness
ATTACH;FMTTYPE=image/png:https://vnahealth.com/wp-content/uploads/2022/02/Fork-Logo-with-blue-border-Transparent-1.png
END:VEVENT
BEGIN:VEVENT
DTSTART;TZID=UTC:20220519T173000
DTEND;TZID=UTC:20220519T183000
DTSTAMP:20260420T051119
CREATED:20220430T024516Z
LAST-MODIFIED:20220527T182544Z
UID:10004554-1652981400-1652985000@vnahealth.com
SUMMARY:Step by Step: Wellness Romeoville
DESCRIPTION:Join us to learn how you can significantly improve your health by making positive lifestyle changes! Classes are FREE and led by a qualified team including a dietitian\, certified diabetes educator\, and nurse practitioner. You will be provided with the knowledge\, resources\, and tools to make lasting health improvements. Highly recommended if you have prediabetes/diabetes! Recommended Materials: glucometer\, blood pressure monitor\, and weight scale. \nIn-person classes are resuming in Romeoville! Anyone is welcome to join whether or not they are a VNA patient. Call (630) 892-4355 x8181 to register. \nParticipants will receive a free box of fruits and vegetables at each weekly class.
URL:https://vnahealth.com/event/step-by-step-wellness-romeoville/2022-05-19/
LOCATION:Romeoville\, 160 N. Independence Blvd\, Romeoville
CATEGORIES:Step by Step: Wellness
ATTACH;FMTTYPE=image/png:https://vnahealth.com/wp-content/uploads/2022/02/Fork-Logo-with-blue-border-Transparent-1.png
END:VEVENT
BEGIN:VEVENT
DTSTART;TZID=UTC:20170901T000000
DTEND;TZID=UTC:20170901T000000
DTSTAMP:20260420T051119
CREATED:20220215T202355Z
LAST-MODIFIED:20240220T092141Z
UID:10003818-1504224000-1504224000@vnahealth.com
SUMMARY:Wellness Class - Romeoville
DESCRIPTION:
URL:https://vnahealth.com/event/wellness-class-romeoville/
LOCATION:Romeoville\, 160 N. Independence Blvd\, Romeoville
END:VEVENT
BEGIN:VEVENT
DTSTART;TZID=UTC:20170901T000000
DTEND;TZID=UTC:20170901T000000
DTSTAMP:20260420T051119
CREATED:20220215T202354Z
LAST-MODIFIED:20240220T092107Z
UID:10003817-1504224000-1504224000@vnahealth.com
SUMMARY:Wellness Class - Romeoville
DESCRIPTION:
URL:https://vnahealth.com/event/wellness-class-romeoville-2/
LOCATION:Romeoville\, 160 N. Independence Blvd\, Romeoville
END:VEVENT
END:VCALENDAR